| Back to Multiple platform build/check report for BioC 3.13 |
|
This page was generated on 2021-10-15 15:05:57 -0400 (Fri, 15 Oct 2021).
|
To the developers/maintainers of the AssessORF package: - Please allow up to 24 hours (and sometimes 48 hours) for your latest push to git@git.bioconductor.org:packages/AssessORF.git to reflect on this report. See How and When does the builder pull? When will my changes propagate? here for more information. - Make sure to use the following settings in order to reproduce any error or warning you see on this page. |
| Package 95/2041 | Hostname | OS / Arch | INSTALL | BUILD | CHECK | BUILD BIN | ||||||||
| AssessORF 1.10.0 (landing page) Deepank Korandla
| nebbiolo1 | Linux (Ubuntu 20.04.2 LTS) / x86_64 | OK | OK | OK | |||||||||
| tokay2 | Windows Server 2012 R2 Standard / x64 | OK | OK | OK | OK | |||||||||
| machv2 | macOS 10.14.6 Mojave / x86_64 | OK | OK | OK | OK | |||||||||
| Package: AssessORF |
| Version: 1.10.0 |
| Command: C:\cygwin\bin\curl.exe -O http://155.52.207.165/BBS/3.13/bioc/src/contrib/AssessORF_1.10.0.tar.gz && rm -rf AssessORF.buildbin-libdir && mkdir AssessORF.buildbin-libdir && C:\Users\biocbuild\bbs-3.13-bioc\R\bin\R.exe CMD INSTALL --merge-multiarch --build --library=AssessORF.buildbin-libdir AssessORF_1.10.0.tar.gz && C:\Users\biocbuild\bbs-3.13-bioc\R\bin\R.exe CMD INSTALL AssessORF_1.10.0.zip && rm AssessORF_1.10.0.tar.gz AssessORF_1.10.0.zip |
| StartedAt: 2021-10-14 08:06:16 -0400 (Thu, 14 Oct 2021) |
| EndedAt: 2021-10-14 08:07:21 -0400 (Thu, 14 Oct 2021) |
| EllapsedTime: 65.7 seconds |
| RetCode: 0 |
| Status: OK |
##############################################################################
##############################################################################
###
### Running command:
###
### C:\cygwin\bin\curl.exe -O http://155.52.207.165/BBS/3.13/bioc/src/contrib/AssessORF_1.10.0.tar.gz && rm -rf AssessORF.buildbin-libdir && mkdir AssessORF.buildbin-libdir && C:\Users\biocbuild\bbs-3.13-bioc\R\bin\R.exe CMD INSTALL --merge-multiarch --build --library=AssessORF.buildbin-libdir AssessORF_1.10.0.tar.gz && C:\Users\biocbuild\bbs-3.13-bioc\R\bin\R.exe CMD INSTALL AssessORF_1.10.0.zip && rm AssessORF_1.10.0.tar.gz AssessORF_1.10.0.zip
###
##############################################################################
##############################################################################
% Total % Received % Xferd Average Speed Time Time Time Current
Dload Upload Total Spent Left Speed
0 0 0 0 0 0 0 0 --:--:-- --:--:-- --:--:-- 0
10 4554k 10 471k 0 0 468k 0 0:00:09 0:00:01 0:00:08 468k
37 4554k 37 1728k 0 0 864k 0 0:00:05 0:00:01 0:00:04 865k
55 4554k 55 2518k 0 0 840k 0 0:00:05 0:00:02 0:00:03 841k
95 4554k 95 4362k 0 0 1092k 0 0:00:04 0:00:03 0:00:01 1092k
100 4554k 100 4554k 0 0 1119k 0 0:00:04 0:00:04 --:--:-- 1119k
install for i386
* installing *source* package 'AssessORF' ...
** using staged installation
** R
** inst
** byte-compile and prepare package for lazy loading
** help
*** installing help indices
converting help for package 'AssessORF'
finding HTML links ... done
AssessGenes html
Assessment-class html
CompareAssessmentResults html
MapAssessmentData html
ScoreAssessmentResults html
as.matrix.Assessment html
mosaicplot.Assessment html
plot.Assessment html
print.Assessment html
** building package indices
** installing vignettes
** testing if installed package can be loaded from temporary location
** testing if installed package can be loaded from final location
** testing if installed package keeps a record of temporary installation path
install for x64
* installing *source* package 'AssessORF' ...
** testing if installed package can be loaded
* MD5 sums
packaged installation of 'AssessORF' as AssessORF_1.10.0.zip
* DONE (AssessORF)
* installing to library 'C:/Users/biocbuild/bbs-3.13-bioc/R/library'
package 'AssessORF' successfully unpacked and MD5 sums checked