| Back to Multiple platform build/check report for BioC 3.13 |
|
This page was generated on 2021-10-15 15:05:57 -0400 (Fri, 15 Oct 2021).
|
To the developers/maintainers of the AnnotationForge package: - Please allow up to 24 hours (and sometimes 48 hours) for your latest push to git@git.bioconductor.org:packages/AnnotationForge.git to reflect on this report. See How and When does the builder pull? When will my changes propagate? here for more information. - Make sure to use the following settings in order to reproduce any error or warning you see on this page. |
| Package 64/2041 | Hostname | OS / Arch | INSTALL | BUILD | CHECK | BUILD BIN | ||||||||
| AnnotationForge 1.34.1 (landing page) Bioconductor Package Maintainer
| nebbiolo1 | Linux (Ubuntu 20.04.2 LTS) / x86_64 | OK | OK | OK | |||||||||
| tokay2 | Windows Server 2012 R2 Standard / x64 | OK | OK | OK | OK | |||||||||
| machv2 | macOS 10.14.6 Mojave / x86_64 | OK | OK | OK | OK | |||||||||
| Package: AnnotationForge |
| Version: 1.34.1 |
| Command: C:\cygwin\bin\curl.exe -O http://155.52.207.165/BBS/3.13/bioc/src/contrib/AnnotationForge_1.34.1.tar.gz && rm -rf AnnotationForge.buildbin-libdir && mkdir AnnotationForge.buildbin-libdir && C:\Users\biocbuild\bbs-3.13-bioc\R\bin\R.exe CMD INSTALL --merge-multiarch --build --library=AnnotationForge.buildbin-libdir AnnotationForge_1.34.1.tar.gz && C:\Users\biocbuild\bbs-3.13-bioc\R\bin\R.exe CMD INSTALL AnnotationForge_1.34.1.zip && rm AnnotationForge_1.34.1.tar.gz AnnotationForge_1.34.1.zip |
| StartedAt: 2021-10-14 08:07:21 -0400 (Thu, 14 Oct 2021) |
| EndedAt: 2021-10-14 08:08:36 -0400 (Thu, 14 Oct 2021) |
| EllapsedTime: 74.9 seconds |
| RetCode: 0 |
| Status: OK |
##############################################################################
##############################################################################
###
### Running command:
###
### C:\cygwin\bin\curl.exe -O http://155.52.207.165/BBS/3.13/bioc/src/contrib/AnnotationForge_1.34.1.tar.gz && rm -rf AnnotationForge.buildbin-libdir && mkdir AnnotationForge.buildbin-libdir && C:\Users\biocbuild\bbs-3.13-bioc\R\bin\R.exe CMD INSTALL --merge-multiarch --build --library=AnnotationForge.buildbin-libdir AnnotationForge_1.34.1.tar.gz && C:\Users\biocbuild\bbs-3.13-bioc\R\bin\R.exe CMD INSTALL AnnotationForge_1.34.1.zip && rm AnnotationForge_1.34.1.tar.gz AnnotationForge_1.34.1.zip
###
##############################################################################
##############################################################################
% Total % Received % Xferd Average Speed Time Time Time Current
Dload Upload Total Spent Left Speed
0 0 0 0 0 0 0 0 --:--:-- --:--:-- --:--:-- 0
8 3285k 8 291k 0 0 698k 0 0:00:04 --:--:-- 0:00:04 698k
52 3285k 52 1736k 0 0 1227k 0 0:00:02 0:00:01 0:00:01 1227k
100 3285k 100 3285k 0 0 1597k 0 0:00:02 0:00:02 --:--:-- 1598k
install for i386
* installing *source* package 'AnnotationForge' ...
** using staged installation
** R
** inst
** byte-compile and prepare package for lazy loading
** help
*** installing help indices
converting help for package 'AnnotationForge'
finding HTML links ... done
AnnDbPkg-maker html
finding level-2 HTML links ... done
available.db0pkgs html
generateSeqnames_db html
getProbeDataAffy html
getProbeData_1lq html
makeChipPackageFromDataFrames html
makeInpDb html
makeOrgPackage html
makeOrgPackageFromNCBI html
makeProbePackage html
sqlForge-makeCHIPDB html
sqlForge-popDB html
sqlForge-wrapDBPackages html
** building package indices
** installing vignettes
** testing if installed package can be loaded from temporary location
** testing if installed package can be loaded from final location
** testing if installed package keeps a record of temporary installation path
install for x64
* installing *source* package 'AnnotationForge' ...
** testing if installed package can be loaded
* MD5 sums
packaged installation of 'AnnotationForge' as AnnotationForge_1.34.1.zip
* DONE (AnnotationForge)
* installing to library 'C:/Users/biocbuild/bbs-3.13-bioc/R/library'
package 'AnnotationForge' successfully unpacked and MD5 sums checked