| Back to Multiple platform build/check report for BioC 3.13 |
|
This page was generated on 2021-10-15 15:05:57 -0400 (Fri, 15 Oct 2021).
|
To the developers/maintainers of the AnnotationDbi package: - Please allow up to 24 hours (and sometimes 48 hours) for your latest push to git@git.bioconductor.org:packages/AnnotationDbi.git to reflect on this report. See How and When does the builder pull? When will my changes propagate? here for more information. - Make sure to use the following settings in order to reproduce any error or warning you see on this page. |
| Package 62/2041 | Hostname | OS / Arch | INSTALL | BUILD | CHECK | BUILD BIN | ||||||||
| AnnotationDbi 1.54.1 (landing page) Bioconductor Package Maintainer
| nebbiolo1 | Linux (Ubuntu 20.04.2 LTS) / x86_64 | OK | OK | OK | |||||||||
| tokay2 | Windows Server 2012 R2 Standard / x64 | OK | OK | OK | OK | |||||||||
| machv2 | macOS 10.14.6 Mojave / x86_64 | OK | OK | OK | OK | |||||||||
| Package: AnnotationDbi |
| Version: 1.54.1 |
| Command: C:\cygwin\bin\curl.exe -O http://155.52.207.165/BBS/3.13/bioc/src/contrib/AnnotationDbi_1.54.1.tar.gz && rm -rf AnnotationDbi.buildbin-libdir && mkdir AnnotationDbi.buildbin-libdir && C:\Users\biocbuild\bbs-3.13-bioc\R\bin\R.exe CMD INSTALL --merge-multiarch --build --library=AnnotationDbi.buildbin-libdir AnnotationDbi_1.54.1.tar.gz && C:\Users\biocbuild\bbs-3.13-bioc\R\bin\R.exe CMD INSTALL AnnotationDbi_1.54.1.zip && rm AnnotationDbi_1.54.1.tar.gz AnnotationDbi_1.54.1.zip |
| StartedAt: 2021-10-14 08:02:19 -0400 (Thu, 14 Oct 2021) |
| EndedAt: 2021-10-14 08:04:57 -0400 (Thu, 14 Oct 2021) |
| EllapsedTime: 158.1 seconds |
| RetCode: 0 |
| Status: OK |
##############################################################################
##############################################################################
###
### Running command:
###
### C:\cygwin\bin\curl.exe -O http://155.52.207.165/BBS/3.13/bioc/src/contrib/AnnotationDbi_1.54.1.tar.gz && rm -rf AnnotationDbi.buildbin-libdir && mkdir AnnotationDbi.buildbin-libdir && C:\Users\biocbuild\bbs-3.13-bioc\R\bin\R.exe CMD INSTALL --merge-multiarch --build --library=AnnotationDbi.buildbin-libdir AnnotationDbi_1.54.1.tar.gz && C:\Users\biocbuild\bbs-3.13-bioc\R\bin\R.exe CMD INSTALL AnnotationDbi_1.54.1.zip && rm AnnotationDbi_1.54.1.tar.gz AnnotationDbi_1.54.1.zip
###
##############################################################################
##############################################################################
% Total % Received % Xferd Average Speed Time Time Time Current
Dload Upload Total Spent Left Speed
0 0 0 0 0 0 0 0 --:--:-- --:--:-- --:--:-- 0
33 3844k 33 1269k 0 0 1375k 0 0:00:02 --:--:-- 0:00:02 1375k
88 3844k 88 3407k 0 0 1788k 0 0:00:02 0:00:01 0:00:01 1788k
100 3844k 100 3844k 0 0 1872k 0 0:00:02 0:00:02 --:--:-- 1873k
install for i386
* installing *source* package 'AnnotationDbi' ...
** using staged installation
** R
** inst
** byte-compile and prepare package for lazy loading
Creating a new generic function for 'packageName' in package 'AnnotationDbi'
Creating a generic function for 'ls' from package 'base' in package 'AnnotationDbi'
Creating a generic function for 'eapply' from package 'base' in package 'AnnotationDbi'
Creating a generic function for 'exists' from package 'base' in package 'AnnotationDbi'
Creating a generic function for 'sample' from package 'base' in package 'AnnotationDbi'
** help
*** installing help indices
converting help for package 'AnnotationDbi'
finding HTML links ... done
AnnDbObj-class html
AnnDbPkg-checker html
AnnotationDb-class html
AnnotationDbi-internals html
Bimap-direction html
Bimap-envirAPI html
Bimap-keys html
Bimap-toTable html
Bimap html
BimapFiltering html
BimapFormatting html
GOColsAndKeytypes html
GOFrame html
GOTerms-class html
REDIRECT:topic Previous alias or file overwritten by alias: C:/Users/biocbuild/bbs-3.13-bioc/meat/AnnotationDbi.buildbin-libdir/00LOCK-AnnotationDbi/00new/AnnotationDbi/help/Term.html
REDIRECT:topic Previous alias or file overwritten by alias: C:/Users/biocbuild/bbs-3.13-bioc/meat/AnnotationDbi.buildbin-libdir/00LOCK-AnnotationDbi/00new/AnnotationDbi/help/Ontology.html
REDIRECT:topic Previous alias or file overwritten by alias: C:/Users/biocbuild/bbs-3.13-bioc/meat/AnnotationDbi.buildbin-libdir/00LOCK-AnnotationDbi/00new/AnnotationDbi/help/Definition.html
KEGGFrame html
colsAndKeytypes html
createSimpleBimap html
inpIDMapper html
makeGOGraph html
make_eg_to_go_map html
orgPackageName html
organismKEGGFrame html
print.probetable html
toSQLStringSet html
unlist2 html
** building package indices
** installing vignettes
** testing if installed package can be loaded from temporary location
** testing if installed package can be loaded from final location
** testing if installed package keeps a record of temporary installation path
install for x64
* installing *source* package 'AnnotationDbi' ...
** testing if installed package can be loaded
* MD5 sums
packaged installation of 'AnnotationDbi' as AnnotationDbi_1.54.1.zip
* DONE (AnnotationDbi)
* installing to library 'C:/Users/biocbuild/bbs-3.13-bioc/R/library'
package 'AnnotationDbi' successfully unpacked and MD5 sums checked