Back to Multiple platform build/check report for BioC 3.13 |
|
This page was generated on 2021-10-15 15:05:57 -0400 (Fri, 15 Oct 2021).
To the developers/maintainers of the AnVILPublish package: - Please allow up to 24 hours (and sometimes 48 hours) for your latest push to git@git.bioconductor.org:packages/AnVILPublish.git to reflect on this report. See How and When does the builder pull? When will my changes propagate? here for more information. - Make sure to use the following settings in order to reproduce any error or warning you see on this page. |
Package 75/2041 | Hostname | OS / Arch | INSTALL | BUILD | CHECK | BUILD BIN | ||||||||
AnVILPublish 1.2.0 (landing page) Martin Morgan
| nebbiolo1 | Linux (Ubuntu 20.04.2 LTS) / x86_64 | OK | OK | OK | ![]() | ||||||||
tokay2 | Windows Server 2012 R2 Standard / x64 | OK | OK | OK | OK | ![]() | ||||||||
machv2 | macOS 10.14.6 Mojave / x86_64 | OK | OK | OK | OK | ![]() | ||||||||
Package: AnVILPublish |
Version: 1.2.0 |
Command: rm -rf AnVILPublish.buildbin-libdir && mkdir AnVILPublish.buildbin-libdir && C:\Users\biocbuild\bbs-3.13-bioc\R\bin\R.exe CMD INSTALL --merge-multiarch --build --library=AnVILPublish.buildbin-libdir AnVILPublish_1.2.0.tar.gz |
StartedAt: 2021-10-15 08:01:43 -0400 (Fri, 15 Oct 2021) |
EndedAt: 2021-10-15 08:03:07 -0400 (Fri, 15 Oct 2021) |
EllapsedTime: 83.6 seconds |
RetCode: 0 |
Status: OK |
PackageFile: AnVILPublish_1.2.0.zip |
PackageFileSize: 263.5 KiB |
############################################################################## ############################################################################## ### ### Running command: ### ### rm -rf AnVILPublish.buildbin-libdir && mkdir AnVILPublish.buildbin-libdir && C:\Users\biocbuild\bbs-3.13-bioc\R\bin\R.exe CMD INSTALL --merge-multiarch --build --library=AnVILPublish.buildbin-libdir AnVILPublish_1.2.0.tar.gz ### ############################################################################## ############################################################################## install for i386 * installing *source* package 'AnVILPublish' ... ** using staged installation ** R ** inst ** byte-compile and prepare package for lazy loading ** help *** installing help indices converting help for package 'AnVILPublish' finding HTML links ... done add_access html as_notebook html as_workspace html ** building package indices ** installing vignettes ** testing if installed package can be loaded from temporary location ** testing if installed package can be loaded from final location ** testing if installed package keeps a record of temporary installation path install for x64 * installing *source* package 'AnVILPublish' ... ** testing if installed package can be loaded * MD5 sums packaged installation of 'AnVILPublish' as AnVILPublish_1.2.0.zip * DONE (AnVILPublish)