| Back to Multiple platform build/check report for BioC 3.13 | 
 | 
This page was generated on 2021-10-15 15:05:57 -0400 (Fri, 15 Oct 2021).
| To the developers/maintainers of the AnVIL package: - Please allow up to 24 hours (and sometimes 48 hours) for your latest push to git@git.bioconductor.org:packages/AnVIL.git to reflect on this report. See How and When does the builder pull? When will my changes propagate? here for more information. - Make sure to use the following settings in order to reproduce any error or warning you see on this page. | 
| Package 73/2041 | Hostname | OS / Arch | INSTALL | BUILD | CHECK | BUILD BIN | ||||||||
| AnVIL 1.4.1  (landing page) Martin Morgan 
 | nebbiolo1 | Linux (Ubuntu 20.04.2 LTS) / x86_64 | OK | OK | OK |  | ||||||||
| tokay2 | Windows Server 2012 R2 Standard / x64 | OK | OK | OK | OK |  | ||||||||
| machv2 | macOS 10.14.6 Mojave / x86_64 | OK | OK | OK | OK |  | ||||||||
| Package: AnVIL | 
| Version: 1.4.1 | 
| Command: rm -rf AnVIL.buildbin-libdir && mkdir AnVIL.buildbin-libdir && C:\Users\biocbuild\bbs-3.13-bioc\R\bin\R.exe CMD INSTALL --merge-multiarch --build --library=AnVIL.buildbin-libdir AnVIL_1.4.1.tar.gz | 
| StartedAt: 2021-10-15 08:01:27 -0400 (Fri, 15 Oct 2021) | 
| EndedAt: 2021-10-15 08:02:49 -0400 (Fri, 15 Oct 2021) | 
| EllapsedTime: 82.8 seconds | 
| RetCode: 0 | 
| Status: OK | 
| PackageFile: AnVIL_1.4.1.zip | 
| PackageFileSize: 802.8 KiB | 
##############################################################################
##############################################################################
###
### Running command:
###
###   rm -rf AnVIL.buildbin-libdir && mkdir AnVIL.buildbin-libdir && C:\Users\biocbuild\bbs-3.13-bioc\R\bin\R.exe CMD INSTALL --merge-multiarch --build --library=AnVIL.buildbin-libdir AnVIL_1.4.1.tar.gz
###
##############################################################################
##############################################################################
install for i386
* installing *source* package 'AnVIL' ...
** using staged installation
** R
** inst
** byte-compile and prepare package for lazy loading
** help
*** installing help indices
  converting help for package 'AnVIL'
    finding HTML links ... done
    Response                                html  
    Service                                 html  
    Services                                html  
    av                                      html  
    avnotebooks                             html  
    avworkflow                              html  
    avworkspace                             html  
    drs                                     html  
    gcloud                                  html  
    gsutil                                  html  
    localize                                html  
** building package indices
** installing vignettes
** testing if installed package can be loaded from temporary location
** testing if installed package can be loaded from final location
** testing if installed package keeps a record of temporary installation path
install for x64
* installing *source* package 'AnVIL' ...
** testing if installed package can be loaded
* MD5 sums
packaged installation of 'AnVIL' as AnVIL_1.4.1.zip
* DONE (AnVIL)