| Back to Multiple platform build/check report for BioC 3.13 |
|
This page was generated on 2021-10-15 15:05:56 -0400 (Fri, 15 Oct 2021).
|
To the developers/maintainers of the AffiXcan package: - Please allow up to 24 hours (and sometimes 48 hours) for your latest push to git@git.bioconductor.org:packages/AffiXcan.git to reflect on this report. See How and When does the builder pull? When will my changes propagate? here for more information. - Make sure to use the following settings in order to reproduce any error or warning you see on this page. |
| Package 21/2041 | Hostname | OS / Arch | INSTALL | BUILD | CHECK | BUILD BIN | ||||||||
| AffiXcan 1.10.0 (landing page) Alessandro Lussana
| nebbiolo1 | Linux (Ubuntu 20.04.2 LTS) / x86_64 | OK | OK | OK | |||||||||
| tokay2 | Windows Server 2012 R2 Standard / x64 | OK | OK | OK | OK | |||||||||
| machv2 | macOS 10.14.6 Mojave / x86_64 | OK | OK | OK | OK | |||||||||
| Package: AffiXcan |
| Version: 1.10.0 |
| Command: rm -rf AffiXcan.buildbin-libdir && mkdir AffiXcan.buildbin-libdir && C:\Users\biocbuild\bbs-3.13-bioc\R\bin\R.exe CMD INSTALL --merge-multiarch --build --library=AffiXcan.buildbin-libdir AffiXcan_1.10.0.tar.gz |
| StartedAt: 2021-10-15 07:54:55 -0400 (Fri, 15 Oct 2021) |
| EndedAt: 2021-10-15 07:55:41 -0400 (Fri, 15 Oct 2021) |
| EllapsedTime: 46.3 seconds |
| RetCode: 0 |
| Status: OK |
| PackageFile: AffiXcan_1.10.0.zip |
| PackageFileSize: 2.058 MiB |
##############################################################################
##############################################################################
###
### Running command:
###
### rm -rf AffiXcan.buildbin-libdir && mkdir AffiXcan.buildbin-libdir && C:\Users\biocbuild\bbs-3.13-bioc\R\bin\R.exe CMD INSTALL --merge-multiarch --build --library=AffiXcan.buildbin-libdir AffiXcan_1.10.0.tar.gz
###
##############################################################################
##############################################################################
install for i386
* installing *source* package 'AffiXcan' ...
** using staged installation
** R
** data
** inst
** byte-compile and prepare package for lazy loading
** help
*** installing help indices
converting help for package 'AffiXcan'
finding HTML links ... done
AffiXcan-package html
affiXcanBs html
affiXcanGReX html
affiXcanImpute html
affiXcanPca html
affiXcanPcs html
affiXcanTrain html
assoc2list html
computeBs html
computeCorrelation html
computeExpr html
computePca html
computePcs html
computeRSquared html
exprMatrix html
overlookRegions html
regionAssoc html
subsetKFold html
trainingCovariates html
** building package indices
** installing vignettes
** testing if installed package can be loaded from temporary location
** testing if installed package can be loaded from final location
** testing if installed package keeps a record of temporary installation path
install for x64
* installing *source* package 'AffiXcan' ...
** testing if installed package can be loaded
* MD5 sums
packaged installation of 'AffiXcan' as AffiXcan_1.10.0.zip
* DONE (AffiXcan)