| Back to Multiple platform build/check report for BioC 3.13 |
|
This page was generated on 2021-10-15 15:05:57 -0400 (Fri, 15 Oct 2021).
|
To the developers/maintainers of the ATACseqQC package: - Please allow up to 24 hours (and sometimes 48 hours) for your latest push to git@git.bioconductor.org:packages/ATACseqQC.git to reflect on this report. See How and When does the builder pull? When will my changes propagate? here for more information. - Make sure to use the following settings in order to reproduce any error or warning you see on this page. |
| Package 98/2041 | Hostname | OS / Arch | INSTALL | BUILD | CHECK | BUILD BIN | ||||||||
| ATACseqQC 1.16.0 (landing page) Jianhong Ou
| nebbiolo1 | Linux (Ubuntu 20.04.2 LTS) / x86_64 | OK | OK | OK | |||||||||
| tokay2 | Windows Server 2012 R2 Standard / x64 | OK | OK | OK | OK | |||||||||
| machv2 | macOS 10.14.6 Mojave / x86_64 | OK | OK | OK | OK | |||||||||
| Package: ATACseqQC |
| Version: 1.16.0 |
| Command: C:\cygwin\bin\curl.exe -O http://155.52.207.165/BBS/3.13/bioc/src/contrib/ATACseqQC_1.16.0.tar.gz && rm -rf ATACseqQC.buildbin-libdir && mkdir ATACseqQC.buildbin-libdir && C:\Users\biocbuild\bbs-3.13-bioc\R\bin\R.exe CMD INSTALL --merge-multiarch --build --library=ATACseqQC.buildbin-libdir ATACseqQC_1.16.0.tar.gz && C:\Users\biocbuild\bbs-3.13-bioc\R\bin\R.exe CMD INSTALL ATACseqQC_1.16.0.zip && rm ATACseqQC_1.16.0.tar.gz ATACseqQC_1.16.0.zip |
| StartedAt: 2021-10-14 10:44:24 -0400 (Thu, 14 Oct 2021) |
| EndedAt: 2021-10-14 10:46:14 -0400 (Thu, 14 Oct 2021) |
| EllapsedTime: 110.0 seconds |
| RetCode: 0 |
| Status: OK |
##############################################################################
##############################################################################
###
### Running command:
###
### C:\cygwin\bin\curl.exe -O http://155.52.207.165/BBS/3.13/bioc/src/contrib/ATACseqQC_1.16.0.tar.gz && rm -rf ATACseqQC.buildbin-libdir && mkdir ATACseqQC.buildbin-libdir && C:\Users\biocbuild\bbs-3.13-bioc\R\bin\R.exe CMD INSTALL --merge-multiarch --build --library=ATACseqQC.buildbin-libdir ATACseqQC_1.16.0.tar.gz && C:\Users\biocbuild\bbs-3.13-bioc\R\bin\R.exe CMD INSTALL ATACseqQC_1.16.0.zip && rm ATACseqQC_1.16.0.tar.gz ATACseqQC_1.16.0.zip
###
##############################################################################
##############################################################################
% Total % Received % Xferd Average Speed Time Time Time Current
Dload Upload Total Spent Left Speed
0 0 0 0 0 0 0 0 --:--:-- --:--:-- --:--:-- 0
4 11.0M 4 564k 0 0 1249k 0 0:00:09 --:--:-- 0:00:09 1250k
26 11.0M 26 2967k 0 0 2043k 0 0:00:05 0:00:01 0:00:04 2043k
53 11.0M 53 6116k 0 0 2497k 0 0:00:04 0:00:02 0:00:02 2497k
90 11.0M 90 10.0M 0 0 2965k 0 0:00:03 0:00:03 --:--:-- 2965k
100 11.0M 100 11.0M 0 0 3082k 0 0:00:03 0:00:03 --:--:-- 3081k
install for i386
* installing *source* package 'ATACseqQC' ...
** using staged installation
** R
** inst
** byte-compile and prepare package for lazy loading
** help
*** installing help indices
converting help for package 'ATACseqQC'
finding HTML links ... done
ATACseqQC-package html
DB html
NFRscore html
PTscore html
TSSEscore html
bamQC html
distanceDyad html
enrichedFragments html
estimateLibComplexity html
factorFootprints html
footprintsScanner html
fragSizeDist html
peakdet html
plotCorrelation html
plotFootprints html
pwmscores html
readBamFile html
finding level-2 HTML links ... done
readsDupFreq html
saturationPlot html
shiftGAlignments html
shiftGAlignmentsList html
shiftReads html
splitBam html
splitGAlignmentsByCut html
vPlot html
writeListOfGAlignments html
** building package indices
** installing vignettes
** testing if installed package can be loaded from temporary location
** testing if installed package can be loaded from final location
** testing if installed package keeps a record of temporary installation path
install for x64
* installing *source* package 'ATACseqQC' ...
** testing if installed package can be loaded
* MD5 sums
packaged installation of 'ATACseqQC' as ATACseqQC_1.16.0.zip
* DONE (ATACseqQC)
* installing to library 'C:/Users/biocbuild/bbs-3.13-bioc/R/library'
package 'ATACseqQC' successfully unpacked and MD5 sums checked