Back to Multiple platform build/check report for BioC 3.13 |
|
This page was generated on 2021-10-15 15:05:57 -0400 (Fri, 15 Oct 2021).
To the developers/maintainers of the ASSET package: - Please allow up to 24 hours (and sometimes 48 hours) for your latest push to git@git.bioconductor.org:packages/ASSET.git to reflect on this report. See How and When does the builder pull? When will my changes propagate? here for more information. - Make sure to use the following settings in order to reproduce any error or warning you see on this page. |
Package 96/2041 | Hostname | OS / Arch | INSTALL | BUILD | CHECK | BUILD BIN | ||||||||
ASSET 2.10.1 (landing page) Samsiddhi Bhattacharjee
| nebbiolo1 | Linux (Ubuntu 20.04.2 LTS) / x86_64 | OK | OK | OK | ![]() | ||||||||
tokay2 | Windows Server 2012 R2 Standard / x64 | OK | OK | OK | OK | ![]() | ||||||||
machv2 | macOS 10.14.6 Mojave / x86_64 | OK | OK | OK | OK | ![]() | ||||||||
Package: ASSET |
Version: 2.10.1 |
Command: rm -rf ASSET.buildbin-libdir && mkdir ASSET.buildbin-libdir && C:\Users\biocbuild\bbs-3.13-bioc\R\bin\R.exe CMD INSTALL --merge-multiarch --build --library=ASSET.buildbin-libdir ASSET_2.10.1.tar.gz |
StartedAt: 2021-10-15 08:04:23 -0400 (Fri, 15 Oct 2021) |
EndedAt: 2021-10-15 08:06:02 -0400 (Fri, 15 Oct 2021) |
EllapsedTime: 99.6 seconds |
RetCode: 0 |
Status: OK |
PackageFile: ASSET_2.10.1.zip |
PackageFileSize: 387.1 KiB |
############################################################################## ############################################################################## ### ### Running command: ### ### rm -rf ASSET.buildbin-libdir && mkdir ASSET.buildbin-libdir && C:\Users\biocbuild\bbs-3.13-bioc\R\bin\R.exe CMD INSTALL --merge-multiarch --build --library=ASSET.buildbin-libdir ASSET_2.10.1.tar.gz ### ############################################################################## ############################################################################## install for i386 * installing *source* package 'ASSET' ... ** using staged installation ** R ** data ** inst ** byte-compile and prepare package for lazy loading ** help *** installing help indices converting help for package 'ASSET' finding HTML links ... done ASSET html ex_trait html ex_types html h.forestPlot html h.summary html h.traits html h.types html p.dlm html z.max html ** building package indices ** installing vignettes ** testing if installed package can be loaded from temporary location ** testing if installed package can be loaded from final location ** testing if installed package keeps a record of temporary installation path install for x64 * installing *source* package 'ASSET' ... ** testing if installed package can be loaded * MD5 sums packaged installation of 'ASSET' as ASSET_2.10.1.zip * DONE (ASSET)