| Back to Multiple platform build/check report for BioC 3.13 |
|
This page was generated on 2021-10-15 15:05:57 -0400 (Fri, 15 Oct 2021).
|
To the developers/maintainers of the ASEB package: - Please allow up to 24 hours (and sometimes 48 hours) for your latest push to git@git.bioconductor.org:packages/ASEB.git to reflect on this report. See How and When does the builder pull? When will my changes propagate? here for more information. - Make sure to use the following settings in order to reproduce any error or warning you see on this page. |
| Package 90/2041 | Hostname | OS / Arch | INSTALL | BUILD | CHECK | BUILD BIN | ||||||||
| ASEB 1.36.0 (landing page) Likun Wang
| nebbiolo1 | Linux (Ubuntu 20.04.2 LTS) / x86_64 | OK | OK | OK | |||||||||
| tokay2 | Windows Server 2012 R2 Standard / x64 | OK | OK | OK | OK | |||||||||
| machv2 | macOS 10.14.6 Mojave / x86_64 | OK | OK | OK | OK | |||||||||
| Package: ASEB |
| Version: 1.36.0 |
| Command: C:\cygwin\bin\curl.exe -O http://155.52.207.165/BBS/3.13/bioc/src/contrib/ASEB_1.36.0.tar.gz && rm -rf ASEB.buildbin-libdir && mkdir ASEB.buildbin-libdir && C:\Users\biocbuild\bbs-3.13-bioc\R\bin\R.exe CMD INSTALL --merge-multiarch --build --library=ASEB.buildbin-libdir ASEB_1.36.0.tar.gz && C:\Users\biocbuild\bbs-3.13-bioc\R\bin\R.exe CMD INSTALL ASEB_1.36.0.zip && rm ASEB_1.36.0.tar.gz ASEB_1.36.0.zip |
| StartedAt: 2021-10-14 06:55:51 -0400 (Thu, 14 Oct 2021) |
| EndedAt: 2021-10-14 06:56:56 -0400 (Thu, 14 Oct 2021) |
| EllapsedTime: 64.6 seconds |
| RetCode: 0 |
| Status: OK |
##############################################################################
##############################################################################
###
### Running command:
###
### C:\cygwin\bin\curl.exe -O http://155.52.207.165/BBS/3.13/bioc/src/contrib/ASEB_1.36.0.tar.gz && rm -rf ASEB.buildbin-libdir && mkdir ASEB.buildbin-libdir && C:\Users\biocbuild\bbs-3.13-bioc\R\bin\R.exe CMD INSTALL --merge-multiarch --build --library=ASEB.buildbin-libdir ASEB_1.36.0.tar.gz && C:\Users\biocbuild\bbs-3.13-bioc\R\bin\R.exe CMD INSTALL ASEB_1.36.0.zip && rm ASEB_1.36.0.tar.gz ASEB_1.36.0.zip
###
##############################################################################
##############################################################################
% Total % Received % Xferd Average Speed Time Time Time Current
Dload Upload Total Spent Left Speed
0 0 0 0 0 0 0 0 --:--:-- --:--:-- --:--:-- 0
100 365k 100 365k 0 0 1210k 0 --:--:-- --:--:-- --:--:-- 1214k
install for i386
* installing *source* package 'ASEB' ...
** using staged installation
** libs
"C:/rtools40/mingw32/bin/"g++ -std=gnu++11 -I"C:/Users/BIOCBU~1/BBS-3~1.13-/R/include" -DNDEBUG -I"c:/extsoft/include" -O2 -Wall -mfpmath=sse -msse2 -mstackrealign -c asebC.cpp -o asebC.o
C:/rtools40/mingw32/bin/g++ -std=gnu++11 -shared -s -static-libgcc -o ASEB.dll tmp.def asebC.o -Lc:/extsoft/lib/i386 -Lc:/extsoft/lib -LC:/Users/BIOCBU~1/BBS-3~1.13-/R/bin/i386 -lR
installing to C:/Users/biocbuild/bbs-3.13-bioc/meat/ASEB.buildbin-libdir/00LOCK-ASEB/00new/ASEB/libs/i386
** R
** inst
** byte-compile and prepare package for lazy loading
** help
*** installing help indices
converting help for package 'ASEB'
finding HTML links ... done
SequenceInfo html
asebProteins html
asebSites html
drawEScurve html
drawStat html
readSequence html
** building package indices
** installing vignettes
** testing if installed package can be loaded from temporary location
** testing if installed package can be loaded from final location
** testing if installed package keeps a record of temporary installation path
install for x64
* installing *source* package 'ASEB' ...
** libs
"C:/rtools40/mingw64/bin/"g++ -std=gnu++11 -I"C:/Users/BIOCBU~1/BBS-3~1.13-/R/include" -DNDEBUG -I"C:/extsoft/include" -O2 -Wall -mfpmath=sse -msse2 -mstackrealign -c asebC.cpp -o asebC.o
C:/rtools40/mingw64/bin/g++ -std=gnu++11 -shared -s -static-libgcc -o ASEB.dll tmp.def asebC.o -LC:/extsoft/lib/x64 -LC:/extsoft/lib -LC:/Users/BIOCBU~1/BBS-3~1.13-/R/bin/x64 -lR
installing to C:/Users/biocbuild/bbs-3.13-bioc/meat/ASEB.buildbin-libdir/ASEB/libs/x64
** testing if installed package can be loaded
* MD5 sums
packaged installation of 'ASEB' as ASEB_1.36.0.zip
* DONE (ASEB)
* installing to library 'C:/Users/biocbuild/bbs-3.13-bioc/R/library'
package 'ASEB' successfully unpacked and MD5 sums checked