| Back to Multiple platform build/check report for BioC 3.13 | 
  | 
This page was generated on 2021-10-15 15:05:35 -0400 (Fri, 15 Oct 2021).
| 
To the developers/maintainers of the AMOUNTAIN package: - Please allow up to 24 hours (and sometimes 48 hours) for your latest push to git@git.bioconductor.org:packages/AMOUNTAIN.git to reflect on this report. See How and When does the builder pull? When will my changes propagate? here for more information. - Make sure to use the following settings in order to reproduce any error or warning you see on this page.  | 
| Package 52/2041 | Hostname | OS / Arch | INSTALL | BUILD | CHECK | BUILD BIN | ||||||||
| AMOUNTAIN 1.18.0  (landing page) Dong Li 
  | nebbiolo1 | Linux (Ubuntu 20.04.2 LTS) / x86_64 | OK | OK | OK | |||||||||
| tokay2 | Windows Server 2012 R2 Standard / x64 | OK | OK | OK | OK | |||||||||
| machv2 | macOS 10.14.6 Mojave / x86_64 | OK | OK | OK | OK | |||||||||
| Package: AMOUNTAIN | 
| Version: 1.18.0 | 
| Command: /home/biocbuild/bbs-3.13-bioc/R/bin/R CMD build --keep-empty-dirs --no-resave-data AMOUNTAIN | 
| StartedAt: 2021-10-14 06:41:13 -0400 (Thu, 14 Oct 2021) | 
| EndedAt: 2021-10-14 06:41:26 -0400 (Thu, 14 Oct 2021) | 
| EllapsedTime: 12.9 seconds | 
| RetCode: 0 | 
| Status: OK | 
| PackageFile: AMOUNTAIN_1.18.0.tar.gz | 
| PackageFileSize: 1.596 MiB | 
##############################################################################
##############################################################################
###
### Running command:
###
###   /home/biocbuild/bbs-3.13-bioc/R/bin/R CMD build --keep-empty-dirs --no-resave-data AMOUNTAIN
###
##############################################################################
##############################################################################
* checking for file ‘AMOUNTAIN/DESCRIPTION’ ... OK
* preparing ‘AMOUNTAIN’:
* checking DESCRIPTION meta-information ... OK
* cleaning src
* installing the package to build vignettes
* creating vignettes ... OK
Warning: ‘inst/doc’ files
    ‘AMOUNTAIN.Rmd’, ‘AMOUNTAIN.html’
  ignored as vignettes have been rebuilt.
  Run R CMD build with --no-build-vignettes to prevent rebuilding.
* cleaning src
* checking for LF line-endings in source and make files and shell scripts
* checking for empty or unneeded directories
* building ‘AMOUNTAIN_1.18.0.tar.gz’