| Back to Multiple platform build/check report for BioC 3.13 | 
 | 
This page was generated on 2021-10-15 15:05:56 -0400 (Fri, 15 Oct 2021).
| To the developers/maintainers of the ADImpute package: - Please allow up to 24 hours (and sometimes 48 hours) for your latest push to git@git.bioconductor.org:packages/ADImpute.git to reflect on this report. See How and When does the builder pull? When will my changes propagate? here for more information. - Make sure to use the following settings in order to reproduce any error or warning you see on this page. | 
| Package 19/2041 | Hostname | OS / Arch | INSTALL | BUILD | CHECK | BUILD BIN | ||||||||
| ADImpute 1.2.0  (landing page) Ana Carolina Leote 
 | nebbiolo1 | Linux (Ubuntu 20.04.2 LTS) / x86_64 | OK | OK | WARNINGS |  | ||||||||
| tokay2 | Windows Server 2012 R2 Standard / x64 | OK | OK | WARNINGS | OK |  | ||||||||
| machv2 | macOS 10.14.6 Mojave / x86_64 | OK | OK | WARNINGS | OK |  | ||||||||
| Package: ADImpute | 
| Version: 1.2.0 | 
| Command: rm -rf ADImpute.buildbin-libdir && mkdir ADImpute.buildbin-libdir && C:\Users\biocbuild\bbs-3.13-bioc\R\bin\R.exe CMD INSTALL --merge-multiarch --build --library=ADImpute.buildbin-libdir ADImpute_1.2.0.tar.gz | 
| StartedAt: 2021-10-15 07:54:39 -0400 (Fri, 15 Oct 2021) | 
| EndedAt: 2021-10-15 07:55:04 -0400 (Fri, 15 Oct 2021) | 
| EllapsedTime: 25.1 seconds | 
| RetCode: 0 | 
| Status: OK | 
| PackageFile: ADImpute_1.2.0.zip | 
| PackageFileSize: 2.388 MiB | 
##############################################################################
##############################################################################
###
### Running command:
###
###   rm -rf ADImpute.buildbin-libdir && mkdir ADImpute.buildbin-libdir && C:\Users\biocbuild\bbs-3.13-bioc\R\bin\R.exe CMD INSTALL --merge-multiarch --build --library=ADImpute.buildbin-libdir ADImpute_1.2.0.tar.gz
###
##############################################################################
##############################################################################
install for i386
* installing *source* package 'ADImpute' ...
** using staged installation
** R
** data
*** moving datasets to lazyload DB
** inst
** byte-compile and prepare package for lazy loading
** help
*** installing help indices
  converting help for package 'ADImpute'
    finding HTML links ... done
    ArrangeData                             html  
    CenterData                              html  
    CheckArguments_Impute                   html  
    ChooseMethod                            html  
    Combine                                 html  
    ComputeMSEGenewise                      html  
    CreateArgCheck                          html  
    CreateTrainData                         html  
    DataCheck_Matrix                        html  
    DataCheck_Network                       html  
    DataCheck_SingleCellExperiment          html  
    DataCheck_TrLength                      html  
    EvaluateMethods                         html  
    GetDropoutProbabilities                 html  
    HandleBiologicalZeros                   html  
    Impute                                  html  
    ImputeBaseline                          html  
    ImputeDrImpute                          html  
    ImputeNPDropouts                        html  
    ImputeNetParallel                       html  
    ImputeNetwork                           html  
    ImputePredictiveDropouts                html  
    ImputeSAVER                             html  
    MaskData                                html  
    MaskerPerGene                           html  
    NormalizeRPM                            html  
    NormalizeTPM                            html  
    PseudoInverseSolution_percell           html  
    ReadData                                html  
    ReturnChoice                            html  
    ReturnOut                               html  
    SetBiologicalZeros                      html  
    SplitData                               html  
    WriteCSV                                html  
    WriteTXT                                html  
    demo_data                               html  
    demo_net                                html  
    demo_sce                                html  
    network.coefficients                    html  
    transcript_length                       html  
** building package indices
** installing vignettes
** testing if installed package can be loaded from temporary location
** testing if installed package can be loaded from final location
** testing if installed package keeps a record of temporary installation path
install for x64
* installing *source* package 'ADImpute' ...
** testing if installed package can be loaded
* MD5 sums
packaged installation of 'ADImpute' as ADImpute_1.2.0.zip
* DONE (ADImpute)