| Back to Multiple platform build/check report for BioC 3.13 |
|
This page was generated on 2021-10-15 15:05:34 -0400 (Fri, 15 Oct 2021).
|
To the developers/maintainers of the ACME package: - Please allow up to 24 hours (and sometimes 48 hours) for your latest push to git@git.bioconductor.org:packages/ACME.git to reflect on this report. See How and When does the builder pull? When will my changes propagate? here for more information. - Make sure to use the following settings in order to reproduce any error or warning you see on this page. |
| Package 14/2041 | Hostname | OS / Arch | INSTALL | BUILD | CHECK | BUILD BIN | ||||||||
| ACME 2.48.0 (landing page) Sean Davis
| nebbiolo1 | Linux (Ubuntu 20.04.2 LTS) / x86_64 | OK | OK | WARNINGS | |||||||||
| tokay2 | Windows Server 2012 R2 Standard / x64 | OK | OK | WARNINGS | OK | |||||||||
| machv2 | macOS 10.14.6 Mojave / x86_64 | OK | OK | OK | OK | |||||||||
| Package: ACME |
| Version: 2.48.0 |
| Command: /home/biocbuild/bbs-3.13-bioc/R/bin/R CMD INSTALL ACME |
| StartedAt: 2021-10-14 06:04:56 -0400 (Thu, 14 Oct 2021) |
| EndedAt: 2021-10-14 06:05:01 -0400 (Thu, 14 Oct 2021) |
| EllapsedTime: 5.4 seconds |
| RetCode: 0 |
| Status: OK |
##############################################################################
##############################################################################
###
### Running command:
###
### /home/biocbuild/bbs-3.13-bioc/R/bin/R CMD INSTALL ACME
###
##############################################################################
##############################################################################
* installing to library ‘/home/biocbuild/bbs-3.13-bioc/R/library’
* installing *source* package ‘ACME’ ...
** using staged installation
** libs
gcc -I"/home/biocbuild/bbs-3.13-bioc/R/include" -DNDEBUG -I/usr/local/include -fpic -g -O2 -Wall -c windowChisq.c -o windowChisq.o
windowChisq.c: In function ‘windowChisq’:
windowChisq.c:58:14: warning: suggest parentheses around comparison in operand of ‘&’ [-Wparentheses]
58 | firstprobe>0) {
| ~~~~~~~~~~^~
windowChisq.c:63:13: warning: suggest parentheses around comparison in operand of ‘&’ [-Wparentheses]
63 | lastprobe<(na-1)) {
| ~~~~~~~~~^~~~~~~
windowChisq.c:21:11: warning: unused variable ‘xa’ [-Wunused-variable]
21 | double *xa,*xlocations,*xchivals;
| ^~
windowChisq.c: At top level:
windowChisq.c:86:20: warning: initialization of ‘void * (*)()’ from incompatible pointer type ‘struct SEXPREC * (*)(struct SEXPREC *, struct SEXPREC *, struct SEXPREC *, struct SEXPREC *, struct SEXPREC *)’ [-Wincompatible-pointer-types]
86 | {"windowChisq",&windowChisq,5},
| ^
windowChisq.c:86:20: note: (near initialization for ‘callMethods[0].fun’)
gcc -shared -L/home/biocbuild/bbs-3.13-bioc/R/lib -L/usr/local/lib -o ACME.so windowChisq.o -L/home/biocbuild/bbs-3.13-bioc/R/lib -lR
installing to /home/biocbuild/bbs-3.13-bioc/R/library/00LOCK-ACME/00new/ACME/libs
** R
** data
** inst
** byte-compile and prepare package for lazy loading
** help
*** installing help indices
** building package indices
** installing vignettes
** testing if installed package can be loaded from temporary location
** checking absolute paths in shared objects and dynamic libraries
** testing if installed package can be loaded from final location
** testing if installed package keeps a record of temporary installation path
* DONE (ACME)