| Back to Multiple platform build/check report for BioC 3.13 | 
  | 
This page was generated on 2021-10-15 15:06:27 -0400 (Fri, 15 Oct 2021).
| 
To the developers/maintainers of the ACE package: - Please allow up to 24 hours (and sometimes 48 hours) for your latest push to git@git.bioconductor.org:packages/ACE.git to reflect on this report. See How and When does the builder pull? When will my changes propagate? here for more information. - Make sure to use the following settings in order to reproduce any error or warning you see on this page.  | 
| Package 12/2041 | Hostname | OS / Arch | INSTALL | BUILD | CHECK | BUILD BIN | ||||||||
| ACE 1.10.0  (landing page) Jos B Poell 
  | nebbiolo1 | Linux (Ubuntu 20.04.2 LTS) / x86_64 | OK | OK | OK | |||||||||
| tokay2 | Windows Server 2012 R2 Standard / x64 | OK | OK | OK | OK | |||||||||
| machv2 | macOS 10.14.6 Mojave / x86_64 | OK | OK | OK | OK | |||||||||
| Package: ACE | 
| Version: 1.10.0 | 
| Command: /Library/Frameworks/R.framework/Versions/Current/Resources/bin/R CMD check --install=check:ACE.install-out.txt --library=/Library/Frameworks/R.framework/Versions/Current/Resources/library --no-vignettes --timings ACE_1.10.0.tar.gz | 
| StartedAt: 2021-10-14 16:05:29 -0400 (Thu, 14 Oct 2021) | 
| EndedAt: 2021-10-14 16:08:58 -0400 (Thu, 14 Oct 2021) | 
| EllapsedTime: 209.5 seconds | 
| RetCode: 0 | 
| Status: OK | 
| CheckDir: ACE.Rcheck | 
| Warnings: 0 | 
##############################################################################
##############################################################################
###
### Running command:
###
###   /Library/Frameworks/R.framework/Versions/Current/Resources/bin/R CMD check --install=check:ACE.install-out.txt --library=/Library/Frameworks/R.framework/Versions/Current/Resources/library --no-vignettes --timings ACE_1.10.0.tar.gz
###
##############################################################################
##############################################################################
* using log directory ‘/Users/biocbuild/bbs-3.13-bioc/meat/ACE.Rcheck’
* using R version 4.1.1 (2021-08-10)
* using platform: x86_64-apple-darwin17.0 (64-bit)
* using session charset: UTF-8
* using option ‘--no-vignettes’
* checking for file ‘ACE/DESCRIPTION’ ... OK
* this is package ‘ACE’ version ‘1.10.0’
* package encoding: UTF-8
* checking package namespace information ... OK
* checking package dependencies ... OK
* checking if this is a source package ... OK
* checking if there is a namespace ... OK
* checking for hidden files and directories ... NOTE
Found the following hidden files and directories:
  .git_fetch_output.txt
  .git_merge_output.txt
These were most likely included in error. See section ‘Package
structure’ in the ‘Writing R Extensions’ manual.
* checking for portable file names ... OK
* checking for sufficient/correct file permissions ... OK
* checking whether package ‘ACE’ can be installed ... OK
* checking installed package size ... OK
* checking package directory ... OK
* checking ‘build’ directory ... OK
* checking DESCRIPTION meta-information ... OK
* checking top-level files ... OK
* checking for left-over files ... OK
* checking index information ... OK
* checking package subdirectories ... OK
* checking R files for non-ASCII characters ... OK
* checking R files for syntax errors ... OK
* checking whether the package can be loaded ... OK
* checking whether the package can be loaded with stated dependencies ... OK
* checking whether the package can be unloaded cleanly ... OK
* checking whether the namespace can be loaded with stated dependencies ... OK
* checking whether the namespace can be unloaded cleanly ... OK
* checking dependencies in R code ... NOTE
Unexported object imported by a ':::' call: ‘QDNAseq:::sdDiffTrim’
  See the note in ?`:::` about the use of this operator.
* checking S3 generic/method consistency ... OK
* checking replacement functions ... OK
* checking foreign function calls ... OK
* checking R code for possible problems ... NOTE
squaremodel: no visible binding for global variable ‘cellularity’
Undefined global functions or variables:
  cellularity
* checking Rd files ... OK
* checking Rd metadata ... OK
* checking Rd cross-references ... OK
* checking for missing documentation entries ... OK
* checking for code/documentation mismatches ... OK
* checking Rd \usage sections ... OK
* checking Rd contents ... OK
* checking for unstated dependencies in examples ... OK
* checking contents of ‘data’ directory ... OK
* checking data for non-ASCII characters ... OK
* checking LazyData ... OK
* checking data for ASCII and uncompressed saves ... OK
* checking files in ‘vignettes’ ... OK
* checking examples ... OK
Examples with CPU (user + system) or elapsed time > 5s
                     user system elapsed
squaremodel        11.931  0.111  12.059
squaremodelsummary 10.681  0.081  10.771
twosamplecompare    8.203  0.064   8.279
loopsquaremodel     5.984  0.078   6.077
* checking for unstated dependencies in vignettes ... OK
* checking package vignettes in ‘inst/doc’ ... OK
* checking running R code from vignettes ... SKIPPED
* checking re-building of vignette outputs ... SKIPPED
* checking PDF version of manual ... OK
* DONE
Status: 3 NOTEs
See
  ‘/Users/biocbuild/bbs-3.13-bioc/meat/ACE.Rcheck/00check.log’
for details.
ACE.Rcheck/00install.out
############################################################################## ############################################################################## ### ### Running command: ### ### /Library/Frameworks/R.framework/Versions/Current/Resources/bin/R CMD INSTALL ACE ### ############################################################################## ############################################################################## * installing to library ‘/Library/Frameworks/R.framework/Versions/4.1/Resources/library’ * installing *source* package ‘ACE’ ... ** using staged installation ** R ** data *** moving datasets to lazyload DB ** inst ** byte-compile and prepare package for lazy loading ** help *** installing help indices ** building package indices ** installing vignettes ** testing if installed package can be loaded from temporary location ** testing if installed package can be loaded from final location ** testing if installed package keeps a record of temporary installation path * DONE (ACE)
ACE.Rcheck/ACE-Ex.timings
| name | user | system | elapsed | |
| ACEcall | 1.399 | 0.435 | 1.836 | |
| analyzegenomiclocations | 0.033 | 0.002 | 0.034 | |
| compresstemplate | 0.080 | 0.002 | 0.081 | |
| copyNumbersSegmented | 1.786 | 0.038 | 1.826 | |
| correlationmatrix | 0.125 | 0.013 | 0.138 | |
| forcesegmentsontemplate | 0.498 | 0.052 | 0.551 | |
| getadjustedsegments | 0.270 | 0.017 | 0.289 | |
| linkvariants | 0.034 | 0.003 | 0.036 | |
| loopsquaremodel | 5.984 | 0.078 | 6.077 | |
| objectsampletotemplate | 0.010 | 0.001 | 0.011 | |
| postanalysisloop | 0 | 0 | 0 | |
| runACE | 0.000 | 0.001 | 0.001 | |
| singlemodel | 1.008 | 0.013 | 1.024 | |
| singleplot | 1.515 | 0.023 | 1.541 | |
| squaremodel | 11.931 | 0.111 | 12.059 | |
| squaremodelsummary | 10.681 | 0.081 | 10.771 | |
| templatefromequalsegments | 0.028 | 0.002 | 0.030 | |
| twosamplecompare | 8.203 | 0.064 | 8.279 | |