| Back to Multiple platform build/check report for BioC 3.13 |
|
This page was generated on 2021-10-15 15:05:56 -0400 (Fri, 15 Oct 2021).
|
To the developers/maintainers of the ABSSeq package: - Please allow up to 24 hours (and sometimes 48 hours) for your latest push to git@git.bioconductor.org:packages/ABSSeq.git to reflect on this report. See How and When does the builder pull? When will my changes propagate? here for more information. - Make sure to use the following settings in order to reproduce any error or warning you see on this page. |
| Package 10/2041 | Hostname | OS / Arch | INSTALL | BUILD | CHECK | BUILD BIN | ||||||||
| ABSSeq 1.46.0 (landing page) Wentao Yang
| nebbiolo1 | Linux (Ubuntu 20.04.2 LTS) / x86_64 | OK | OK | OK | |||||||||
| tokay2 | Windows Server 2012 R2 Standard / x64 | OK | OK | OK | OK | |||||||||
| machv2 | macOS 10.14.6 Mojave / x86_64 | OK | OK | OK | OK | |||||||||
| Package: ABSSeq |
| Version: 1.46.0 |
| Command: C:\cygwin\bin\curl.exe -O http://155.52.207.165/BBS/3.13/bioc/src/contrib/ABSSeq_1.46.0.tar.gz && rm -rf ABSSeq.buildbin-libdir && mkdir ABSSeq.buildbin-libdir && C:\Users\biocbuild\bbs-3.13-bioc\R\bin\R.exe CMD INSTALL --merge-multiarch --build --library=ABSSeq.buildbin-libdir ABSSeq_1.46.0.tar.gz && C:\Users\biocbuild\bbs-3.13-bioc\R\bin\R.exe CMD INSTALL ABSSeq_1.46.0.zip && rm ABSSeq_1.46.0.tar.gz ABSSeq_1.46.0.zip |
| StartedAt: 2021-10-14 07:06:27 -0400 (Thu, 14 Oct 2021) |
| EndedAt: 2021-10-14 07:07:18 -0400 (Thu, 14 Oct 2021) |
| EllapsedTime: 51.0 seconds |
| RetCode: 0 |
| Status: OK |
##############################################################################
##############################################################################
###
### Running command:
###
### C:\cygwin\bin\curl.exe -O http://155.52.207.165/BBS/3.13/bioc/src/contrib/ABSSeq_1.46.0.tar.gz && rm -rf ABSSeq.buildbin-libdir && mkdir ABSSeq.buildbin-libdir && C:\Users\biocbuild\bbs-3.13-bioc\R\bin\R.exe CMD INSTALL --merge-multiarch --build --library=ABSSeq.buildbin-libdir ABSSeq_1.46.0.tar.gz && C:\Users\biocbuild\bbs-3.13-bioc\R\bin\R.exe CMD INSTALL ABSSeq_1.46.0.zip && rm ABSSeq_1.46.0.tar.gz ABSSeq_1.46.0.zip
###
##############################################################################
##############################################################################
% Total % Received % Xferd Average Speed Time Time Time Current
Dload Upload Total Spent Left Speed
0 0 0 0 0 0 0 0 --:--:-- --:--:-- --:--:-- 0
100 222k 100 222k 0 0 853k 0 --:--:-- --:--:-- --:--:-- 854k
install for i386
* installing *source* package 'ABSSeq' ...
** using staged installation
** R
** data
** inst
** byte-compile and prepare package for lazy loading
** help
*** installing help indices
converting help for package 'ABSSeq'
finding HTML links ... done
ABSDataSet html
ABSSeq html
ABSSeqlm html
LevelstoNormFC html
ReplaceOutliersByMAD html
aFoldcomplexDesign html
callDEs html
callParameter html
callParameterwithoutReplicates html
counts html
estimateSizeFactorsForMatrix html
excounts html
genAFold html
groups html
maxRates html
minRates html
minimalDispersion html
normMethod html
normalFactors html
paired html
plotDifftoBase html
qtotalNormalized html
results html
sFactors html
simuN5 html
** building package indices
** installing vignettes
** testing if installed package can be loaded from temporary location
** testing if installed package can be loaded from final location
** testing if installed package keeps a record of temporary installation path
install for x64
* installing *source* package 'ABSSeq' ...
** testing if installed package can be loaded
* MD5 sums
packaged installation of 'ABSSeq' as ABSSeq_1.46.0.zip
* DONE (ABSSeq)
* installing to library 'C:/Users/biocbuild/bbs-3.13-bioc/R/library'
package 'ABSSeq' successfully unpacked and MD5 sums checked