| Back to Multiple platform build/check report for BioC 3.13 |
|
This page was generated on 2021-10-15 15:05:34 -0400 (Fri, 15 Oct 2021).
|
To the developers/maintainers of the ABAEnrichment package: - Please allow up to 24 hours (and sometimes 48 hours) for your latest push to git@git.bioconductor.org:packages/ABAEnrichment.git to reflect on this report. See How and When does the builder pull? When will my changes propagate? here for more information. - Make sure to use the following settings in order to reproduce any error or warning you see on this page. |
| Package 7/2041 | Hostname | OS / Arch | INSTALL | BUILD | CHECK | BUILD BIN | ||||||||
| ABAEnrichment 1.22.0 (landing page) Steffi Grote
| nebbiolo1 | Linux (Ubuntu 20.04.2 LTS) / x86_64 | OK | OK | OK | |||||||||
| tokay2 | Windows Server 2012 R2 Standard / x64 | OK | OK | OK | OK | |||||||||
| machv2 | macOS 10.14.6 Mojave / x86_64 | OK | OK | OK | OK | |||||||||
| Package: ABAEnrichment |
| Version: 1.22.0 |
| Command: /home/biocbuild/bbs-3.13-bioc/R/bin/R CMD check --install=check:ABAEnrichment.install-out.txt --library=/home/biocbuild/bbs-3.13-bioc/R/library --no-vignettes --timings ABAEnrichment_1.22.0.tar.gz |
| StartedAt: 2021-10-14 08:49:31 -0400 (Thu, 14 Oct 2021) |
| EndedAt: 2021-10-14 08:50:54 -0400 (Thu, 14 Oct 2021) |
| EllapsedTime: 82.5 seconds |
| RetCode: 0 |
| Status: OK |
| CheckDir: ABAEnrichment.Rcheck |
| Warnings: 0 |
##############################################################################
##############################################################################
###
### Running command:
###
### /home/biocbuild/bbs-3.13-bioc/R/bin/R CMD check --install=check:ABAEnrichment.install-out.txt --library=/home/biocbuild/bbs-3.13-bioc/R/library --no-vignettes --timings ABAEnrichment_1.22.0.tar.gz
###
##############################################################################
##############################################################################
* using log directory ‘/home/biocbuild/bbs-3.13-bioc/meat/ABAEnrichment.Rcheck’
* using R version 4.1.1 (2021-08-10)
* using platform: x86_64-pc-linux-gnu (64-bit)
* using session charset: UTF-8
* using option ‘--no-vignettes’
* checking for file ‘ABAEnrichment/DESCRIPTION’ ... OK
* checking extension type ... Package
* this is package ‘ABAEnrichment’ version ‘1.22.0’
* checking package namespace information ... OK
* checking package dependencies ... OK
* checking if this is a source package ... OK
* checking if there is a namespace ... OK
* checking for hidden files and directories ... OK
* checking for portable file names ... OK
* checking for sufficient/correct file permissions ... OK
* checking whether package ‘ABAEnrichment’ can be installed ... OK
* checking installed package size ... OK
* checking package directory ... OK
* checking ‘build’ directory ... OK
* checking DESCRIPTION meta-information ... OK
* checking top-level files ... OK
* checking for left-over files ... OK
* checking index information ... OK
* checking package subdirectories ... OK
* checking R files for non-ASCII characters ... OK
* checking R files for syntax errors ... OK
* checking whether the package can be loaded ... OK
* checking whether the package can be loaded with stated dependencies ... OK
* checking whether the package can be unloaded cleanly ... OK
* checking whether the namespace can be loaded with stated dependencies ... OK
* checking whether the namespace can be unloaded cleanly ... OK
* checking dependencies in R code ... NOTE
Unexported objects imported by ':::' calls:
‘GOfuncR:::binom_category_test’ ‘GOfuncR:::binom_randset’
‘GOfuncR:::conti_category_test’ ‘GOfuncR:::conti_randset’
‘GOfuncR:::hyper_category_test’ ‘GOfuncR:::hyper_randset’
‘GOfuncR:::wilcox_category_test’ ‘GOfuncR:::wilcox_randset’
See the note in ?`:::` about the use of this operator.
* checking S3 generic/method consistency ... OK
* checking replacement functions ... OK
* checking foreign function calls ... OK
* checking R code for possible problems ... NOTE
aba_enrich: no visible binding for global variable ‘signal’
aba_enrich: no visible binding for global variable ‘gene_id’
get_annotated_genes: no visible binding for global variable ‘signal’
get_annotated_genes: no visible binding for global variable ‘gene_id’
get_annotated_genes: no visible binding for global variable
‘structure_id’
Undefined global functions or variables:
gene_id signal structure_id
* checking Rd files ... OK
* checking Rd metadata ... OK
* checking Rd cross-references ... OK
* checking for missing documentation entries ... OK
* checking for code/documentation mismatches ... OK
* checking Rd \usage sections ... OK
* checking Rd contents ... OK
* checking for unstated dependencies in examples ... OK
* checking R/sysdata.rda ... OK
* checking line endings in C/C++/Fortran sources/headers ... OK
* checking compiled code ... NOTE
Note: information on .o files is not available
* checking files in ‘vignettes’ ... OK
* checking examples ... OK
Examples with CPU (user + system) or elapsed time > 5s
user system elapsed
aba_enrich 6.775 0.512 7.213
* checking for unstated dependencies in ‘tests’ ... OK
* checking tests ...
Running ‘testthat.R’
OK
* checking for unstated dependencies in vignettes ... OK
* checking package vignettes in ‘inst/doc’ ... OK
* checking running R code from vignettes ... SKIPPED
* checking re-building of vignette outputs ... SKIPPED
* checking PDF version of manual ... OK
* DONE
Status: 3 NOTEs
See
‘/home/biocbuild/bbs-3.13-bioc/meat/ABAEnrichment.Rcheck/00check.log’
for details.
ABAEnrichment.Rcheck/00install.out
############################################################################## ############################################################################## ### ### Running command: ### ### /home/biocbuild/bbs-3.13-bioc/R/bin/R CMD INSTALL ABAEnrichment ### ############################################################################## ############################################################################## * installing to library ‘/home/biocbuild/bbs-3.13-bioc/R/library’ * installing *source* package ‘ABAEnrichment’ ... ** using staged installation ** libs g++ -std=gnu++14 -I"/home/biocbuild/bbs-3.13-bioc/R/include" -DNDEBUG -I'/home/biocbuild/bbs-3.13-bioc/R/library/Rcpp/include' -I/usr/local/include -fpic -g -O2 -Wall -c RcppExports.cpp -o RcppExports.o g++ -std=gnu++14 -I"/home/biocbuild/bbs-3.13-bioc/R/include" -DNDEBUG -I'/home/biocbuild/bbs-3.13-bioc/R/library/Rcpp/include' -I/usr/local/include -fpic -g -O2 -Wall -c unlock_environment.cc -o unlock_environment.o g++ -std=gnu++14 -shared -L/home/biocbuild/bbs-3.13-bioc/R/lib -L/usr/local/lib -o ABAEnrichment.so RcppExports.o unlock_environment.o -L/home/biocbuild/bbs-3.13-bioc/R/lib -lR installing to /home/biocbuild/bbs-3.13-bioc/R/library/00LOCK-ABAEnrichment/00new/ABAEnrichment/libs ** R ** inst ** byte-compile and prepare package for lazy loading ** help *** installing help indices ** building package indices ** installing vignettes ** testing if installed package can be loaded from temporary location ** checking absolute paths in shared objects and dynamic libraries ** testing if installed package can be loaded from final location ** testing if installed package keeps a record of temporary installation path * DONE (ABAEnrichment)
ABAEnrichment.Rcheck/tests/testthat.Rout
R version 4.1.1 (2021-08-10) -- "Kick Things"
Copyright (C) 2021 The R Foundation for Statistical Computing
Platform: x86_64-pc-linux-gnu (64-bit)
R is free software and comes with ABSOLUTELY NO WARRANTY.
You are welcome to redistribute it under certain conditions.
Type 'license()' or 'licence()' for distribution details.
R is a collaborative project with many contributors.
Type 'contributors()' for more information and
'citation()' on how to cite R or R packages in publications.
Type 'demo()' for some demos, 'help()' for on-line help, or
'help.start()' for an HTML browser interface to help.
Type 'q()' to quit R.
> library(testthat)
> library(ABAEnrichment)
>
> test_check("ABAEnrichment")
V1 V2 V3
2 chr3 76500000 90500000
3 chr7 113600000 124700000
1 chr1 104000000 114900000
4 chr8 54500000 65400000
V1 V2 V3
1 chr1 104000000 114900000
2 chr3 76500000 90500000
3 chr5 0 4700000
4 chr7 113600000 124700000
5 chr8 54500000 65400000
Read 1535 terms.
Found 1534 nodes.
Graph created.
Reading nodes_per_gene file...
Found 188 usable entrys in /tmp/RtmpeMprhh/file3a88c710822f5_Allen:4005 with 678 GOs
Creating 1000 random gene sets from 4 random regions...
The candidate does not fit - try again...
This was trial 1
The candidate does not fit - try again...
This was trial 2
The candidate does not fit - try again...
This was trial 3
The candidate does not fit - try again...
This was trial 4
The candidate does not fit - try again...
This was trial 5
The candidate does not fit - try again...
This was trial 6
The candidate does not fit - try again...
This was trial 7
The candidate does not fit - try again...
This was trial 8
The candidate does not fit - try again...
This was trial 9
The candidate does not fit - try again...
This was trial 10
Error: 10 times in a row the candidate regions could not be placed randomly without forcing them to overlap. Consider using larger background regions.
[ FAIL 0 | WARN 49 | SKIP 0 | PASS 146 ]
>
> proc.time()
user system elapsed
41.590 3.436 43.153
ABAEnrichment.Rcheck/ABAEnrichment-Ex.timings
| name | user | system | elapsed | |
| aba_enrich | 6.775 | 0.512 | 7.213 | |
| get_annotated_genes | 3.097 | 0.437 | 3.422 | |
| get_expression | 0.088 | 0.000 | 0.089 | |
| get_id | 0.013 | 0.000 | 0.013 | |
| get_name | 0.004 | 0.000 | 0.005 | |
| get_sampled_substructures | 0.000 | 0.002 | 0.002 | |
| get_superstructures | 0.020 | 0.002 | 0.021 | |
| plot_expression | 0.166 | 0.004 | 0.169 | |