| Back to Workflows build report for BioC 3.12 | 
This page was generated on 2021-05-07 15:45:15 -0400 (Fri, 07 May 2021).
| To the developers/maintainers of the proteomics package: Please make sure to use the following settings in order to reproduce any error or warning you see on this page. | 
| Package 18/28 | Hostname | OS / Arch | INSTALL | BUILD | ||||||||
| proteomics 1.14.0  (landing page) Laurent Gatto 
 | malbec1 | Linux (Ubuntu 18.04.5 LTS) / x86_64 | OK | OK |  | |||||||
| Package: proteomics | 
| Version: 1.14.0 | 
| Command: /home/biocbuild/bbs-3.12-bioc/R/bin/R CMD INSTALL proteomics | 
| StartedAt: 2021-05-07 09:07:27 -0400 (Fri, 07 May 2021) | 
| EndedAt: 2021-05-07 09:07:56 -0400 (Fri, 07 May 2021) | 
| EllapsedTime: 28.6 seconds | 
| RetCode: 0 | 
| Status: OK | 
############################################################################## ############################################################################## ### ### Running command: ### ### /home/biocbuild/bbs-3.12-bioc/R/bin/R CMD INSTALL proteomics ### ############################################################################## ############################################################################## * installing to library ‘/home/biocbuild/bbs-3.12-bioc/R/library’ * installing *source* package ‘proteomics’ ... ** using staged installation ** help No man pages found in package ‘proteomics’ *** installing help indices ** building package indices ** installing vignettes ** testing if installed package can be loaded from temporary location ** testing if installed package can be loaded from final location ** testing if installed package keeps a record of temporary installation path * DONE (proteomics)