| Back to Build/check report for BioC 3.12 experimental data |
|
This page was generated on 2021-05-06 14:10:11 -0400 (Thu, 06 May 2021).
|
To the developers/maintainers of the metaMSdata package: Please make sure to use the following settings in order to reproduce any error or warning you see on this page. |
| Package 223/398 | Hostname | OS / Arch | INSTALL | BUILD | CHECK | ||||||||
| metaMSdata 1.26.0 (landing page) Yann Guitton
| malbec1 | Linux (Ubuntu 18.04.5 LTS) / x86_64 | OK | OK | OK | ||||||||
| Package: metaMSdata |
| Version: 1.26.0 |
| Command: /home/biocbuild/bbs-3.12-bioc/R/bin/R CMD build --keep-empty-dirs --no-resave-data metaMSdata |
| StartedAt: 2021-05-06 11:05:22 -0400 (Thu, 06 May 2021) |
| EndedAt: 2021-05-06 11:10:17 -0400 (Thu, 06 May 2021) |
| EllapsedTime: 295.0 seconds |
| RetCode: 0 |
| Status: OK |
| PackageFile: metaMSdata_1.26.0.tar.gz |
| PackageFileSize: 121.9 MiB |
############################################################################## ############################################################################## ### ### Running command: ### ### /home/biocbuild/bbs-3.12-bioc/R/bin/R CMD build --keep-empty-dirs --no-resave-data metaMSdata ### ############################################################################## ############################################################################## * checking for file ‘metaMSdata/DESCRIPTION’ ... OK * preparing ‘metaMSdata’: * checking DESCRIPTION meta-information ... OK * checking for LF line-endings in source and make files and shell scripts * checking for empty or unneeded directories * building ‘metaMSdata_1.26.0.tar.gz’