| Back to Build/check report for BioC 3.12 experimental data | 
 | 
This page was generated on 2021-05-06 14:10:10 -0400 (Thu, 06 May 2021).
| To the developers/maintainers of the hgu133abarcodevecs package: Please make sure to use the following settings in order to reproduce any error or warning you see on this page. | 
| Package 172/398 | Hostname | OS / Arch | INSTALL | BUILD | CHECK | ||||||||
| hgu133abarcodevecs 1.28.0  (landing page) Matthew N. McCall 
 | malbec1 | Linux (Ubuntu 18.04.5 LTS) / x86_64 | OK | OK | OK |  | |||||||
| Package: hgu133abarcodevecs | 
| Version: 1.28.0 | 
| Command: /home/biocbuild/bbs-3.12-bioc/R/bin/R CMD build --keep-empty-dirs --no-resave-data hgu133abarcodevecs | 
| StartedAt: 2021-05-06 10:57:24 -0400 (Thu, 06 May 2021) | 
| EndedAt: 2021-05-06 10:57:24 -0400 (Thu, 06 May 2021) | 
| EllapsedTime: 0.7 seconds | 
| RetCode: 0 | 
| Status: OK | 
| PackageFile: hgu133abarcodevecs_1.28.0.tar.gz | 
| PackageFileSize: 500.8 KiB | 
############################################################################## ############################################################################## ### ### Running command: ### ### /home/biocbuild/bbs-3.12-bioc/R/bin/R CMD build --keep-empty-dirs --no-resave-data hgu133abarcodevecs ### ############################################################################## ############################################################################## * checking for file ‘hgu133abarcodevecs/DESCRIPTION’ ... OK * preparing ‘hgu133abarcodevecs’: * checking DESCRIPTION meta-information ... OK * checking for LF line-endings in source and make files and shell scripts * checking for empty or unneeded directories * looking to see if a ‘data/datalist’ file should be added * building ‘hgu133abarcodevecs_1.28.0.tar.gz’