| Back to Build/check report for BioC 3.12 experimental data |
|
This page was generated on 2021-05-06 14:10:06 -0400 (Thu, 06 May 2021).
|
To the developers/maintainers of the breastCancerUPP package: Please make sure to use the following settings in order to reproduce any error or warning you see on this page. |
| Package 39/398 | Hostname | OS / Arch | INSTALL | BUILD | CHECK | ||||||||
| breastCancerUPP 1.28.0 (landing page) Markus Schroeder
| malbec1 | Linux (Ubuntu 18.04.5 LTS) / x86_64 | OK | OK | WARNINGS | ||||||||
| Package: breastCancerUPP |
| Version: 1.28.0 |
| Command: /home/biocbuild/bbs-3.12-bioc/R/bin/R CMD build --keep-empty-dirs --no-resave-data breastCancerUPP |
| StartedAt: 2021-05-06 10:22:02 -0400 (Thu, 06 May 2021) |
| EndedAt: 2021-05-06 10:22:07 -0400 (Thu, 06 May 2021) |
| EllapsedTime: 4.6 seconds |
| RetCode: 0 |
| Status: OK |
| PackageFile: breastCancerUPP_1.28.0.tar.gz |
| PackageFileSize: 29.59 MiB |
############################################################################## ############################################################################## ### ### Running command: ### ### /home/biocbuild/bbs-3.12-bioc/R/bin/R CMD build --keep-empty-dirs --no-resave-data breastCancerUPP ### ############################################################################## ############################################################################## * checking for file ‘breastCancerUPP/DESCRIPTION’ ... OK * preparing ‘breastCancerUPP’: * checking DESCRIPTION meta-information ... OK * checking whether ‘INDEX’ is up-to-date ... NO * use ‘--force’ to remove the existing ‘INDEX’ * checking for LF line-endings in source and make files and shell scripts * checking for empty or unneeded directories * looking to see if a ‘data/datalist’ file should be added * building ‘breastCancerUPP_1.28.0.tar.gz’