| Back to Build/check report for BioC 3.12 experimental data |
|
This page was generated on 2021-05-06 14:10:14 -0400 (Thu, 06 May 2021).
|
To the developers/maintainers of the SNPhoodData package: Please make sure to use the following settings in order to reproduce any error or warning you see on this page. |
| Package 349/398 | Hostname | OS / Arch | INSTALL | BUILD | CHECK | ||||||||
| SNPhoodData 1.20.0 (landing page) Christian Arnold
| malbec1 | Linux (Ubuntu 18.04.5 LTS) / x86_64 | OK | OK | OK | ||||||||
| Package: SNPhoodData |
| Version: 1.20.0 |
| Command: /home/biocbuild/bbs-3.12-bioc/R/bin/R CMD build --keep-empty-dirs --no-resave-data SNPhoodData |
| StartedAt: 2021-05-06 11:25:26 -0400 (Thu, 06 May 2021) |
| EndedAt: 2021-05-06 11:25:58 -0400 (Thu, 06 May 2021) |
| EllapsedTime: 31.9 seconds |
| RetCode: 0 |
| Status: OK |
| PackageFile: SNPhoodData_1.20.0.tar.gz |
| PackageFileSize: 233.5 MiB |
############################################################################## ############################################################################## ### ### Running command: ### ### /home/biocbuild/bbs-3.12-bioc/R/bin/R CMD build --keep-empty-dirs --no-resave-data SNPhoodData ### ############################################################################## ############################################################################## * checking for file ‘SNPhoodData/DESCRIPTION’ ... OK * preparing ‘SNPhoodData’: * checking DESCRIPTION meta-information ... OK * installing the package to build vignettes * creating vignettes ... OK * checking for LF line-endings in source and make files and shell scripts * checking for empty or unneeded directories * building ‘SNPhoodData_1.20.0.tar.gz’