| Back to Build/check report for BioC 3.12 experimental data |
|
This page was generated on 2021-05-06 14:10:12 -0400 (Thu, 06 May 2021).
|
To the developers/maintainers of the Mulder2012 package: Please make sure to use the following settings in order to reproduce any error or warning you see on this page. |
| Package 249/398 | Hostname | OS / Arch | INSTALL | BUILD | CHECK | ||||||||
Xin Wang
| malbec1 | Linux (Ubuntu 18.04.5 LTS) / x86_64 | ERROR | ERROR | skipped | ||||||||
| Package: Mulder2012 |
| Version: 0.30.0 |
| Command: /home/biocbuild/bbs-3.12-bioc/R/bin/R CMD INSTALL Mulder2012 |
| StartedAt: 2021-05-06 10:18:51 -0400 (Thu, 06 May 2021) |
| EndedAt: 2021-05-06 10:18:51 -0400 (Thu, 06 May 2021) |
| EllapsedTime: 0.4 seconds |
| RetCode: 1 |
| Status: ERROR |
############################################################################## ############################################################################## ### ### Running command: ### ### /home/biocbuild/bbs-3.12-bioc/R/bin/R CMD INSTALL Mulder2012 ### ############################################################################## ############################################################################## * installing to library ‘/home/biocbuild/bbs-3.12-bioc/R/library’ ERROR: dependency ‘HTSanalyzeR’ is not available for package ‘Mulder2012’ * removing ‘/home/biocbuild/bbs-3.12-bioc/R/library/Mulder2012’