| Back to Build/check report for BioC 3.12 experimental data | 
 | 
This page was generated on 2021-05-06 14:10:06 -0400 (Thu, 06 May 2021).
| To the developers/maintainers of the COPDSexualDimorphism.data package: Please make sure to use the following settings in order to reproduce any error or warning you see on this page. | 
| Package 74/398 | Hostname | OS / Arch | INSTALL | BUILD | CHECK | ||||||||
| COPDSexualDimorphism.data 1.26.0  (landing page) J Fah Sathirapongsasuti 
 | malbec1 | Linux (Ubuntu 18.04.5 LTS) / x86_64 | OK | OK | WARNINGS |  | |||||||
| Package: COPDSexualDimorphism.data | 
| Version: 1.26.0 | 
| Command: /home/biocbuild/bbs-3.12-bioc/R/bin/R CMD build --keep-empty-dirs --no-resave-data COPDSexualDimorphism.data | 
| StartedAt: 2021-05-06 10:31:56 -0400 (Thu, 06 May 2021) | 
| EndedAt: 2021-05-06 10:32:03 -0400 (Thu, 06 May 2021) | 
| EllapsedTime: 6.9 seconds | 
| RetCode: 0 | 
| Status: OK | 
| PackageFile: COPDSexualDimorphism.data_1.26.0.tar.gz | 
| PackageFileSize: 34.29 MiB | 
############################################################################## ############################################################################## ### ### Running command: ### ### /home/biocbuild/bbs-3.12-bioc/R/bin/R CMD build --keep-empty-dirs --no-resave-data COPDSexualDimorphism.data ### ############################################################################## ############################################################################## * checking for file ‘COPDSexualDimorphism.data/DESCRIPTION’ ... OK * preparing ‘COPDSexualDimorphism.data’: * checking DESCRIPTION meta-information ... OK * installing the package to build vignettes * creating vignettes ... OK * checking for LF line-endings in source and make files and shell scripts * checking for empty or unneeded directories * looking to see if a ‘data/datalist’ file should be added * building ‘COPDSexualDimorphism.data_1.26.0.tar.gz’