| Back to Multiple platform build/check report for BioC 3.12 | 
 | 
This page was generated on 2021-05-06 12:34:11 -0400 (Thu, 06 May 2021).
| To the developers/maintainers of the widgetTools package: Please make sure to use the following settings in order to reproduce any error or warning you see on this page. | 
| Package 1954/1974 | Hostname | OS / Arch | INSTALL | BUILD | CHECK | BUILD BIN | ||||||||
| widgetTools 1.68.0  (landing page) Jianhua Zhang 
 | malbec1 | Linux (Ubuntu 18.04.5 LTS) / x86_64 | OK | OK | OK |  | ||||||||
| tokay1 | Windows Server 2012 R2 Standard / x64 | OK | OK | OK | OK |  | ||||||||
| merida1 | macOS 10.14.6 Mojave / x86_64 | OK | OK | OK | OK |  | ||||||||
| Package: widgetTools | 
| Version: 1.68.0 | 
| Command: C:\cygwin\bin\curl.exe -O http://172.29.0.3/BBS/3.12/bioc/src/contrib/widgetTools_1.68.0.tar.gz && rm -rf widgetTools.buildbin-libdir && mkdir widgetTools.buildbin-libdir && C:\Users\biocbuild\bbs-3.12-bioc\R\bin\R.exe CMD INSTALL --merge-multiarch --build --library=widgetTools.buildbin-libdir widgetTools_1.68.0.tar.gz && C:\Users\biocbuild\bbs-3.12-bioc\R\bin\R.exe CMD INSTALL widgetTools_1.68.0.zip && rm widgetTools_1.68.0.tar.gz widgetTools_1.68.0.zip | 
| StartedAt: 2021-05-05 16:39:04 -0400 (Wed, 05 May 2021) | 
| EndedAt: 2021-05-05 16:40:19 -0400 (Wed, 05 May 2021) | 
| EllapsedTime: 74.3 seconds | 
| RetCode: 0 | 
| Status: OK | 
##############################################################################
##############################################################################
###
### Running command:
###
###   C:\cygwin\bin\curl.exe -O http://172.29.0.3/BBS/3.12/bioc/src/contrib/widgetTools_1.68.0.tar.gz && rm -rf widgetTools.buildbin-libdir && mkdir widgetTools.buildbin-libdir && C:\Users\biocbuild\bbs-3.12-bioc\R\bin\R.exe CMD INSTALL --merge-multiarch --build --library=widgetTools.buildbin-libdir widgetTools_1.68.0.tar.gz && C:\Users\biocbuild\bbs-3.12-bioc\R\bin\R.exe CMD INSTALL widgetTools_1.68.0.zip && rm widgetTools_1.68.0.tar.gz widgetTools_1.68.0.zip
###
##############################################################################
##############################################################################
  % Total    % Received % Xferd  Average Speed   Time    Time     Time  Current
                                 Dload  Upload   Total   Spent    Left  Speed
  0     0    0     0    0     0      0      0 --:--:-- --:--:-- --:--:--     0
100 36039  100 36039    0     0  2415k      0 --:--:-- --:--:-- --:--:-- 2513k
install for i386
* installing *source* package 'widgetTools' ...
** using staged installation
** R
** byte-compile and prepare package for lazy loading
** help
*** installing help indices
  converting help for package 'widgetTools'
    finding HTML links ... done
    basicPW-class                           html  
    button                                  html  
    dropdownList                            html  
    makeViewer                              html  
    oneVScrList                             html  
    safeFileOpen                            html  
    tooltip                                 html  
    widget-class                            html  
    widgetView-class                        html  
    writeText                               html  
** building package indices
** installing vignettes
** testing if installed package can be loaded from temporary location
** testing if installed package can be loaded from final location
** testing if installed package keeps a record of temporary installation path
install for x64
* installing *source* package 'widgetTools' ...
** testing if installed package can be loaded
* MD5 sums
packaged installation of 'widgetTools' as widgetTools_1.68.0.zip
* DONE (widgetTools)
* installing to library 'C:/Users/biocbuild/bbs-3.12-bioc/R/library'
package 'widgetTools' successfully unpacked and MD5 sums checked