| Back to Multiple platform build/check report for BioC 3.12 | 
 | 
This page was generated on 2021-05-06 12:34:11 -0400 (Thu, 06 May 2021).
| To the developers/maintainers of the weitrix package: Please make sure to use the following settings in order to reproduce any error or warning you see on this page. | 
| Package 1953/1974 | Hostname | OS / Arch | INSTALL | BUILD | CHECK | BUILD BIN | ||||||||
| weitrix 1.2.0  (landing page) Paul Harrison 
 | malbec1 | Linux (Ubuntu 18.04.5 LTS) / x86_64 | OK | OK | OK |  | ||||||||
| tokay1 | Windows Server 2012 R2 Standard / x64 | OK | OK | OK | OK |  | ||||||||
| merida1 | macOS 10.14.6 Mojave / x86_64 | OK | OK | OK | OK |  | ||||||||
| Package: weitrix | 
| Version: 1.2.0 | 
| Command: rm -rf weitrix.buildbin-libdir && mkdir weitrix.buildbin-libdir && C:\Users\biocbuild\bbs-3.12-bioc\R\bin\R.exe CMD INSTALL --merge-multiarch --build --library=weitrix.buildbin-libdir weitrix_1.2.0.tar.gz | 
| StartedAt: 2021-05-06 10:21:28 -0400 (Thu, 06 May 2021) | 
| EndedAt: 2021-05-06 10:22:15 -0400 (Thu, 06 May 2021) | 
| EllapsedTime: 46.6 seconds | 
| RetCode: 0 | 
| Status: OK | 
| PackageFile: weitrix_1.2.0.zip | 
| PackageFileSize: 5.48 MiB | 
##############################################################################
##############################################################################
###
### Running command:
###
###   rm -rf weitrix.buildbin-libdir && mkdir weitrix.buildbin-libdir && C:\Users\biocbuild\bbs-3.12-bioc\R\bin\R.exe CMD INSTALL --merge-multiarch --build --library=weitrix.buildbin-libdir weitrix_1.2.0.tar.gz
###
##############################################################################
##############################################################################
install for i386
* installing *source* package 'weitrix' ...
** using staged installation
** R
** data
*** moving datasets to lazyload DB
** inst
** byte-compile and prepare package for lazy loading
** help
*** installing help indices
  converting help for package 'weitrix'
    finding HTML links ... done
    as_weitrix                              html  
    bless_weitrix                           html  
    components_seq_scree                    html  
    counts_proportions                      html  
    counts_shift                            html  
    matrix_long                             html  
    simwei                                  html  
    weitrix_calibrate                       html  
    weitrix_calibrate_all                   html  
    weitrix_calibrate_trend                 html  
    weitrix_calplot                         html  
    weitrix_components                      html  
    weitrix_confects                        html  
    weitrix_dispersions                     html  
    weitrix_elist                           html  
    weitrix_hill                            html  
    weitrix_randomize                       html  
    weitrix_sd_confects                     html  
    weitrix_weights                         html  
    weitrix_x                               html  
    well_knotted_spline                     html  
** building package indices
** installing vignettes
** testing if installed package can be loaded from temporary location
** testing if installed package can be loaded from final location
** testing if installed package keeps a record of temporary installation path
install for x64
* installing *source* package 'weitrix' ...
** testing if installed package can be loaded
* MD5 sums
packaged installation of 'weitrix' as weitrix_1.2.0.zip
* DONE (weitrix)