| Back to Multiple platform build/check report for BioC 3.12 |
|
This page was generated on 2021-05-06 12:34:11 -0400 (Thu, 06 May 2021).
|
To the developers/maintainers of the weaver package: Please make sure to use the following settings in order to reproduce any error or warning you see on this page. |
| Package 1951/1974 | Hostname | OS / Arch | INSTALL | BUILD | CHECK | BUILD BIN | ||||||||
| weaver 1.56.0 (landing page) Seth Falcon
| malbec1 | Linux (Ubuntu 18.04.5 LTS) / x86_64 | OK | OK | WARNINGS | |||||||||
| tokay1 | Windows Server 2012 R2 Standard / x64 | OK | OK | WARNINGS | OK | |||||||||
| merida1 | macOS 10.14.6 Mojave / x86_64 | OK | OK | WARNINGS | OK | |||||||||
| Package: weaver |
| Version: 1.56.0 |
| Command: rm -rf weaver.buildbin-libdir && mkdir weaver.buildbin-libdir && C:\Users\biocbuild\bbs-3.12-bioc\R\bin\R.exe CMD INSTALL --merge-multiarch --build --library=weaver.buildbin-libdir weaver_1.56.0.tar.gz |
| StartedAt: 2021-05-06 10:21:21 -0400 (Thu, 06 May 2021) |
| EndedAt: 2021-05-06 10:21:35 -0400 (Thu, 06 May 2021) |
| EllapsedTime: 14.0 seconds |
| RetCode: 0 |
| Status: OK |
| PackageFile: weaver_1.56.0.zip |
| PackageFileSize: 200.6 KiB |
##############################################################################
##############################################################################
###
### Running command:
###
### rm -rf weaver.buildbin-libdir && mkdir weaver.buildbin-libdir && C:\Users\biocbuild\bbs-3.12-bioc\R\bin\R.exe CMD INSTALL --merge-multiarch --build --library=weaver.buildbin-libdir weaver_1.56.0.tar.gz
###
##############################################################################
##############################################################################
install for i386
* installing *source* package 'weaver' ...
** using staged installation
** R
** inst
** byte-compile and prepare package for lazy loading
** help
*** installing help indices
converting help for package 'weaver'
finding HTML links ... done
internal html
weaver html
** building package indices
** installing vignettes
** testing if installed package can be loaded from temporary location
** testing if installed package can be loaded from final location
** testing if installed package keeps a record of temporary installation path
install for x64
* installing *source* package 'weaver' ...
** testing if installed package can be loaded
* MD5 sums
packaged installation of 'weaver' as weaver_1.56.0.zip
* DONE (weaver)