| Back to Multiple platform build/check report for BioC 3.12 |
|
This page was generated on 2021-05-06 12:29:34 -0400 (Thu, 06 May 2021).
|
To the developers/maintainers of the tspair package: Please make sure to use the following settings in order to reproduce any error or warning you see on this page. |
| Package 1907/1974 | Hostname | OS / Arch | INSTALL | BUILD | CHECK | BUILD BIN | ||||||||
| tspair 1.48.0 (landing page) Jeffrey T. Leek
| malbec1 | Linux (Ubuntu 18.04.5 LTS) / x86_64 | OK | OK | OK | |||||||||
| tokay1 | Windows Server 2012 R2 Standard / x64 | OK | OK | OK | OK | |||||||||
| merida1 | macOS 10.14.6 Mojave / x86_64 | OK | OK | OK | OK | |||||||||
| Package: tspair |
| Version: 1.48.0 |
| Command: /home/biocbuild/bbs-3.12-bioc/R/bin/R CMD build --keep-empty-dirs --no-resave-data tspair |
| StartedAt: 2021-05-05 22:29:45 -0400 (Wed, 05 May 2021) |
| EndedAt: 2021-05-05 22:29:58 -0400 (Wed, 05 May 2021) |
| EllapsedTime: 13.2 seconds |
| RetCode: 0 |
| Status: OK |
| PackageFile: tspair_1.48.0.tar.gz |
| PackageFileSize: 633.8 KiB |
############################################################################## ############################################################################## ### ### Running command: ### ### /home/biocbuild/bbs-3.12-bioc/R/bin/R CMD build --keep-empty-dirs --no-resave-data tspair ### ############################################################################## ############################################################################## * checking for file ‘tspair/DESCRIPTION’ ... OK * preparing ‘tspair’: * checking DESCRIPTION meta-information ... OK * cleaning src * checking whether ‘INDEX’ is up-to-date ... NO * use ‘--force’ to remove the existing ‘INDEX’ * installing the package to build vignettes * creating vignettes ... OK * cleaning src * checking for LF line-endings in source and make files and shell scripts * checking for empty or unneeded directories * looking to see if a ‘data/datalist’ file should be added * building ‘tspair_1.48.0.tar.gz’