Back to Multiple platform build/check report for BioC 3.12 |
|
This page was generated on 2021-05-06 12:34:02 -0400 (Thu, 06 May 2021).
To the developers/maintainers of the traseR package: Please make sure to use the following settings in order to reproduce any error or warning you see on this page. |
Package 1892/1974 | Hostname | OS / Arch | INSTALL | BUILD | CHECK | BUILD BIN | ||||||||
traseR 1.20.0 (landing page) li chen
| malbec1 | Linux (Ubuntu 18.04.5 LTS) / x86_64 | OK | OK | OK | |||||||||
tokay1 | Windows Server 2012 R2 Standard / x64 | OK | OK | OK | OK | |||||||||
merida1 | macOS 10.14.6 Mojave / x86_64 | OK | OK | OK | OK | |||||||||
Package: traseR |
Version: 1.20.0 |
Command: C:\cygwin\bin\curl.exe -O http://172.29.0.3/BBS/3.12/bioc/src/contrib/traseR_1.20.0.tar.gz && rm -rf traseR.buildbin-libdir && mkdir traseR.buildbin-libdir && C:\Users\biocbuild\bbs-3.12-bioc\R\bin\R.exe CMD INSTALL --merge-multiarch --build --library=traseR.buildbin-libdir traseR_1.20.0.tar.gz && C:\Users\biocbuild\bbs-3.12-bioc\R\bin\R.exe CMD INSTALL traseR_1.20.0.zip && rm traseR_1.20.0.tar.gz traseR_1.20.0.zip |
StartedAt: 2021-05-05 18:11:06 -0400 (Wed, 05 May 2021) |
EndedAt: 2021-05-05 18:13:01 -0400 (Wed, 05 May 2021) |
EllapsedTime: 115.3 seconds |
RetCode: 0 |
Status: OK |
############################################################################## ############################################################################## ### ### Running command: ### ### C:\cygwin\bin\curl.exe -O http://172.29.0.3/BBS/3.12/bioc/src/contrib/traseR_1.20.0.tar.gz && rm -rf traseR.buildbin-libdir && mkdir traseR.buildbin-libdir && C:\Users\biocbuild\bbs-3.12-bioc\R\bin\R.exe CMD INSTALL --merge-multiarch --build --library=traseR.buildbin-libdir traseR_1.20.0.tar.gz && C:\Users\biocbuild\bbs-3.12-bioc\R\bin\R.exe CMD INSTALL traseR_1.20.0.zip && rm traseR_1.20.0.tar.gz traseR_1.20.0.zip ### ############################################################################## ############################################################################## % Total % Received % Xferd Average Speed Time Time Time Current Dload Upload Total Spent Left Speed 0 0 0 0 0 0 0 0 --:--:-- --:--:-- --:--:-- 0 100 6281k 100 6281k 0 0 79.5M 0 --:--:-- --:--:-- --:--:-- 80.7M install for i386 * installing *source* package 'traseR' ... ** using staged installation ** R ** data ** inst ** byte-compile and prepare package for lazy loading ** help *** installing help indices converting help for package 'traseR' finding HTML links ... done CEU html Tcell html plots html print.traseR html querys html taSNP html taSNPLD html traseR-package html traseR html ** building package indices ** installing vignettes ** testing if installed package can be loaded from temporary location ** testing if installed package can be loaded from final location ** testing if installed package keeps a record of temporary installation path install for x64 * installing *source* package 'traseR' ... ** testing if installed package can be loaded * MD5 sums packaged installation of 'traseR' as traseR_1.20.0.zip * DONE (traseR) * installing to library 'C:/Users/biocbuild/bbs-3.12-bioc/R/library' package 'traseR' successfully unpacked and MD5 sums checked