| Back to Multiple platform build/check report for BioC 3.12 |
|
This page was generated on 2021-05-06 12:29:29 -0400 (Thu, 06 May 2021).
|
To the developers/maintainers of the trackViewer package: Please make sure to use the following settings in order to reproduce any error or warning you see on this page. |
| Package 1884/1974 | Hostname | OS / Arch | INSTALL | BUILD | CHECK | BUILD BIN | ||||||||
| trackViewer 1.26.2 (landing page) Jianhong Ou
| malbec1 | Linux (Ubuntu 18.04.5 LTS) / x86_64 | OK | OK | OK | |||||||||
| tokay1 | Windows Server 2012 R2 Standard / x64 | OK | OK | OK | OK | |||||||||
| merida1 | macOS 10.14.6 Mojave / x86_64 | OK | OK | OK | OK | |||||||||
| Package: trackViewer |
| Version: 1.26.2 |
| Command: /home/biocbuild/bbs-3.12-bioc/R/bin/R CMD build --keep-empty-dirs --no-resave-data trackViewer |
| StartedAt: 2021-05-05 22:26:16 -0400 (Wed, 05 May 2021) |
| EndedAt: 2021-05-05 22:38:22 -0400 (Wed, 05 May 2021) |
| EllapsedTime: 725.4 seconds |
| RetCode: 0 |
| Status: OK |
| PackageFile: trackViewer_1.26.2.tar.gz |
| PackageFileSize: 5.28 MiB |
############################################################################## ############################################################################## ### ### Running command: ### ### /home/biocbuild/bbs-3.12-bioc/R/bin/R CMD build --keep-empty-dirs --no-resave-data trackViewer ### ############################################################################## ############################################################################## * checking for file ‘trackViewer/DESCRIPTION’ ... OK * preparing ‘trackViewer’: * checking DESCRIPTION meta-information ... OK * installing the package to build vignettes * creating vignettes ... OK * checking for LF line-endings in source and make files and shell scripts * checking for empty or unneeded directories * building ‘trackViewer_1.26.2.tar.gz’