| Back to Multiple platform build/check report for BioC 3.12 |
|
This page was generated on 2021-05-06 12:33:57 -0400 (Thu, 06 May 2021).
|
To the developers/maintainers of the tidySingleCellExperiment package: Please make sure to use the following settings in order to reproduce any error or warning you see on this page. |
| Package 1856/1974 | Hostname | OS / Arch | INSTALL | BUILD | CHECK | BUILD BIN | ||||||||
| tidySingleCellExperiment 1.0.0 (landing page) Stefano Mangiola
| malbec1 | Linux (Ubuntu 18.04.5 LTS) / x86_64 | OK | OK | OK | |||||||||
| tokay1 | Windows Server 2012 R2 Standard / x64 | OK | OK | OK | OK | |||||||||
| merida1 | macOS 10.14.6 Mojave / x86_64 | OK | OK | OK | OK | |||||||||
| Package: tidySingleCellExperiment |
| Version: 1.0.0 |
| Command: C:\cygwin\bin\curl.exe -O http://172.29.0.3/BBS/3.12/bioc/src/contrib/tidySingleCellExperiment_1.0.0.tar.gz && rm -rf tidySingleCellExperiment.buildbin-libdir && mkdir tidySingleCellExperiment.buildbin-libdir && C:\Users\biocbuild\bbs-3.12-bioc\R\bin\R.exe CMD INSTALL --merge-multiarch --build --library=tidySingleCellExperiment.buildbin-libdir tidySingleCellExperiment_1.0.0.tar.gz && C:\Users\biocbuild\bbs-3.12-bioc\R\bin\R.exe CMD INSTALL tidySingleCellExperiment_1.0.0.zip && rm tidySingleCellExperiment_1.0.0.tar.gz tidySingleCellExperiment_1.0.0.zip |
| StartedAt: 2021-05-05 18:37:50 -0400 (Wed, 05 May 2021) |
| EndedAt: 2021-05-05 18:38:39 -0400 (Wed, 05 May 2021) |
| EllapsedTime: 49.0 seconds |
| RetCode: 0 |
| Status: OK |
##############################################################################
##############################################################################
###
### Running command:
###
### C:\cygwin\bin\curl.exe -O http://172.29.0.3/BBS/3.12/bioc/src/contrib/tidySingleCellExperiment_1.0.0.tar.gz && rm -rf tidySingleCellExperiment.buildbin-libdir && mkdir tidySingleCellExperiment.buildbin-libdir && C:\Users\biocbuild\bbs-3.12-bioc\R\bin\R.exe CMD INSTALL --merge-multiarch --build --library=tidySingleCellExperiment.buildbin-libdir tidySingleCellExperiment_1.0.0.tar.gz && C:\Users\biocbuild\bbs-3.12-bioc\R\bin\R.exe CMD INSTALL tidySingleCellExperiment_1.0.0.zip && rm tidySingleCellExperiment_1.0.0.tar.gz tidySingleCellExperiment_1.0.0.zip
###
##############################################################################
##############################################################################
% Total % Received % Xferd Average Speed Time Time Time Current
Dload Upload Total Spent Left Speed
0 0 0 0 0 0 0 0 --:--:-- --:--:-- --:--:-- 0
100 634k 100 634k 0 0 38.5M 0 --:--:-- --:--:-- --:--:-- 41.2M
install for i386
* installing *source* package 'tidySingleCellExperiment' ...
** using staged installation
** R
** data
*** moving datasets to lazyload DB
** byte-compile and prepare package for lazy loading
** help
*** installing help indices
converting help for package 'tidySingleCellExperiment'
finding HTML links ... done
add_class html
bind html
cell_type_df html
count html
dplyr-methods html
drop_class html
ggplot2-methods html
join_transcripts html
pbmc_small html
pbmc_small_nested_interactions html
pipe html
plot_ly html
print html
quo_names html
tibble-methods html
tidy html
tidyr-methods html
*** copying figures
** building package indices
** installing vignettes
** testing if installed package can be loaded from temporary location
** testing if installed package can be loaded from final location
** testing if installed package keeps a record of temporary installation path
install for x64
* installing *source* package 'tidySingleCellExperiment' ...
** testing if installed package can be loaded
* MD5 sums
packaged installation of 'tidySingleCellExperiment' as tidySingleCellExperiment_1.0.0.zip
* DONE (tidySingleCellExperiment)
* installing to library 'C:/Users/biocbuild/bbs-3.12-bioc/R/library'
package 'tidySingleCellExperiment' successfully unpacked and MD5 sums checked