| Back to Multiple platform build/check report for BioC 3.12 | 
 | 
This page was generated on 2021-05-06 12:33:53 -0400 (Thu, 06 May 2021).
| To the developers/maintainers of the synlet package: Please make sure to use the following settings in order to reproduce any error or warning you see on this page. | 
| Package 1830/1974 | Hostname | OS / Arch | INSTALL | BUILD | CHECK | BUILD BIN | ||||||||
| synlet 1.20.0  (landing page) Chunxuan Shao 
 | malbec1 | Linux (Ubuntu 18.04.5 LTS) / x86_64 | OK | OK | OK |  | ||||||||
| tokay1 | Windows Server 2012 R2 Standard / x64 | OK | OK | OK | OK |  | ||||||||
| merida1 | macOS 10.14.6 Mojave / x86_64 | OK | OK | OK | OK |  | ||||||||
| Package: synlet | 
| Version: 1.20.0 | 
| Command: rm -rf synlet.buildbin-libdir && mkdir synlet.buildbin-libdir && C:\Users\biocbuild\bbs-3.12-bioc\R\bin\R.exe CMD INSTALL --merge-multiarch --build --library=synlet.buildbin-libdir synlet_1.20.0.tar.gz | 
| StartedAt: 2021-05-06 10:14:23 -0400 (Thu, 06 May 2021) | 
| EndedAt: 2021-05-06 10:15:16 -0400 (Thu, 06 May 2021) | 
| EllapsedTime: 52.5 seconds | 
| RetCode: 0 | 
| Status: OK | 
| PackageFile: synlet_1.20.0.zip | 
| PackageFileSize: 845.5 KiB | 
##############################################################################
##############################################################################
###
### Running command:
###
###   rm -rf synlet.buildbin-libdir && mkdir synlet.buildbin-libdir && C:\Users\biocbuild\bbs-3.12-bioc\R\bin\R.exe CMD INSTALL --merge-multiarch --build --library=synlet.buildbin-libdir synlet_1.20.0.tar.gz
###
##############################################################################
##############################################################################
install for i386
* installing *source* package 'synlet' ...
** using staged installation
** R
** data
*** moving datasets to lazyload DB
** inst
** byte-compile and prepare package for lazy loading
** help
*** installing help indices
  converting help for package 'synlet'
    finding HTML links ... done
    bScore                                  html  
    exampleDat                              html  
    madSelect                               html  
    plateHeatmap                            html  
    rankProdHits                            html  
    rsaHits                                 html  
    scatterPlot                             html  
    siRNAPlot                               html  
    tTest                                   html  
    zFactor                                 html  
** building package indices
** installing vignettes
** testing if installed package can be loaded from temporary location
** testing if installed package can be loaded from final location
** testing if installed package keeps a record of temporary installation path
install for x64
* installing *source* package 'synlet' ...
** testing if installed package can be loaded
* MD5 sums
packaged installation of 'synlet' as synlet_1.20.0.zip
* DONE (synlet)