| Back to Multiple platform build/check report for BioC 3.12 |
|
This page was generated on 2021-05-06 12:33:50 -0400 (Thu, 06 May 2021).
|
To the developers/maintainers of the stepNorm package: Please make sure to use the following settings in order to reproduce any error or warning you see on this page. |
| Package 1802/1974 | Hostname | OS / Arch | INSTALL | BUILD | CHECK | BUILD BIN | ||||||||
| stepNorm 1.62.0 (landing page) Yuanyuan Xiao
| malbec1 | Linux (Ubuntu 18.04.5 LTS) / x86_64 | OK | OK | OK | |||||||||
| tokay1 | Windows Server 2012 R2 Standard / x64 | OK | OK | OK | OK | |||||||||
| merida1 | macOS 10.14.6 Mojave / x86_64 | OK | OK | OK | OK | |||||||||
| Package: stepNorm |
| Version: 1.62.0 |
| Command: rm -rf stepNorm.buildbin-libdir && mkdir stepNorm.buildbin-libdir && C:\Users\biocbuild\bbs-3.12-bioc\R\bin\R.exe CMD INSTALL --merge-multiarch --build --library=stepNorm.buildbin-libdir stepNorm_1.62.0.tar.gz |
| StartedAt: 2021-05-06 10:12:48 -0400 (Thu, 06 May 2021) |
| EndedAt: 2021-05-06 10:13:34 -0400 (Thu, 06 May 2021) |
| EllapsedTime: 45.4 seconds |
| RetCode: 0 |
| Status: OK |
| PackageFile: stepNorm_1.62.0.zip |
| PackageFileSize: 568.7 KiB |
##############################################################################
##############################################################################
###
### Running command:
###
### rm -rf stepNorm.buildbin-libdir && mkdir stepNorm.buildbin-libdir && C:\Users\biocbuild\bbs-3.12-bioc\R\bin\R.exe CMD INSTALL --merge-multiarch --build --library=stepNorm.buildbin-libdir stepNorm_1.62.0.tar.gz
###
##############################################################################
##############################################################################
install for i386
* installing *source* package 'stepNorm' ...
** using staged installation
** R
** inst
** byte-compile and prepare package for lazy loading
** help
*** installing help indices
converting help for package 'stepNorm'
finding HTML links ... done
calcAIC html
calcBIC html
fit2DWithin html
fitWithin html
maCompPlate2 html
makeStepList html
marrayFitClass html
seqWithinNorm html
stepNorm-internal html
stepWithinNorm html
withinNorm html
** building package indices
** testing if installed package can be loaded from temporary location
** testing if installed package can be loaded from final location
** testing if installed package keeps a record of temporary installation path
install for x64
* installing *source* package 'stepNorm' ...
** testing if installed package can be loaded
* MD5 sums
packaged installation of 'stepNorm' as stepNorm_1.62.0.zip
* DONE (stepNorm)