| Back to Multiple platform build/check report for BioC 3.12 | 
  | 
This page was generated on 2021-05-06 12:33:44 -0400 (Thu, 06 May 2021).
| 
To the developers/maintainers of the spatialHeatmap package: Please make sure to use the following settings in order to reproduce any error or warning you see on this page.  | 
| Package 1761/1974 | Hostname | OS / Arch | INSTALL | BUILD | CHECK | BUILD BIN | ||||||||
| spatialHeatmap 1.0.0  (landing page) Jianhai Zhang 
  | malbec1 | Linux (Ubuntu 18.04.5 LTS) / x86_64 | OK | OK | OK | |||||||||
| tokay1 | Windows Server 2012 R2 Standard / x64 | OK | OK | OK | OK | |||||||||
| merida1 | macOS 10.14.6 Mojave / x86_64 | OK | OK | OK | OK | |||||||||
| Package: spatialHeatmap | 
| Version: 1.0.0 | 
| Command: C:\cygwin\bin\curl.exe -O http://172.29.0.3/BBS/3.12/bioc/src/contrib/spatialHeatmap_1.0.0.tar.gz && rm -rf spatialHeatmap.buildbin-libdir && mkdir spatialHeatmap.buildbin-libdir && C:\Users\biocbuild\bbs-3.12-bioc\R\bin\R.exe CMD INSTALL --merge-multiarch --build --library=spatialHeatmap.buildbin-libdir spatialHeatmap_1.0.0.tar.gz && C:\Users\biocbuild\bbs-3.12-bioc\R\bin\R.exe CMD INSTALL spatialHeatmap_1.0.0.zip && rm spatialHeatmap_1.0.0.tar.gz spatialHeatmap_1.0.0.zip | 
| StartedAt: 2021-05-05 18:37:48 -0400 (Wed, 05 May 2021) | 
| EndedAt: 2021-05-05 18:40:39 -0400 (Wed, 05 May 2021) | 
| EllapsedTime: 171.0 seconds | 
| RetCode: 0 | 
| Status: OK | 
##############################################################################
##############################################################################
###
### Running command:
###
###   C:\cygwin\bin\curl.exe -O http://172.29.0.3/BBS/3.12/bioc/src/contrib/spatialHeatmap_1.0.0.tar.gz && rm -rf spatialHeatmap.buildbin-libdir && mkdir spatialHeatmap.buildbin-libdir && C:\Users\biocbuild\bbs-3.12-bioc\R\bin\R.exe CMD INSTALL --merge-multiarch --build --library=spatialHeatmap.buildbin-libdir spatialHeatmap_1.0.0.tar.gz && C:\Users\biocbuild\bbs-3.12-bioc\R\bin\R.exe CMD INSTALL spatialHeatmap_1.0.0.zip && rm spatialHeatmap_1.0.0.tar.gz spatialHeatmap_1.0.0.zip
###
##############################################################################
##############################################################################
  % Total    % Received % Xferd  Average Speed   Time    Time     Time  Current
                                 Dload  Upload   Total   Spent    Left  Speed
  0     0    0     0    0     0      0      0 --:--:-- --:--:-- --:--:--     0
100 1334k  100 1334k    0     0  25.1M      0 --:--:-- --:--:-- --:--:-- 25.5M
install for i386
* installing *source* package 'spatialHeatmap' ...
** using staged installation
** R
** inst
** byte-compile and prepare package for lazy loading
** help
*** installing help indices
  converting help for package 'spatialHeatmap'
    finding HTML links ... done
    adj_mod                                 html  
    aggr_rep                                html  
    custom_shiny                            html  
    filter_data                             html  
    matrix_hm                               html  
    network                                 html  
    norm_data                               html  
    return_feature                          html  
    shiny_all                               html  
    spatialHeatmap-package                  html  
    spatial_hm                              html  
    submatrix                               html  
    update_feature                          html  
** building package indices
** installing vignettes
** testing if installed package can be loaded from temporary location
** testing if installed package can be loaded from final location
** testing if installed package keeps a record of temporary installation path
install for x64
* installing *source* package 'spatialHeatmap' ...
** testing if installed package can be loaded
* MD5 sums
packaged installation of 'spatialHeatmap' as spatialHeatmap_1.0.0.zip
* DONE (spatialHeatmap)
* installing to library 'C:/Users/biocbuild/bbs-3.12-bioc/R/library'
package 'spatialHeatmap' successfully unpacked and MD5 sums checked