| Back to Multiple platform build/check report for BioC 3.12 |
|
This page was generated on 2021-05-06 12:33:42 -0400 (Thu, 06 May 2021).
|
To the developers/maintainers of the sparseDOSSA package: Please make sure to use the following settings in order to reproduce any error or warning you see on this page. |
| Package 1754/1974 | Hostname | OS / Arch | INSTALL | BUILD | CHECK | BUILD BIN | ||||||||
| sparseDOSSA 1.14.0 (landing page) Boyu Ren
| malbec1 | Linux (Ubuntu 18.04.5 LTS) / x86_64 | OK | OK | OK | |||||||||
| tokay1 | Windows Server 2012 R2 Standard / x64 | OK | OK | OK | OK | |||||||||
| merida1 | macOS 10.14.6 Mojave / x86_64 | OK | OK | OK | OK | |||||||||
| Package: sparseDOSSA |
| Version: 1.14.0 |
| Command: C:\cygwin\bin\curl.exe -O http://172.29.0.3/BBS/3.12/bioc/src/contrib/sparseDOSSA_1.14.0.tar.gz && rm -rf sparseDOSSA.buildbin-libdir && mkdir sparseDOSSA.buildbin-libdir && C:\Users\biocbuild\bbs-3.12-bioc\R\bin\R.exe CMD INSTALL --merge-multiarch --build --library=sparseDOSSA.buildbin-libdir sparseDOSSA_1.14.0.tar.gz && C:\Users\biocbuild\bbs-3.12-bioc\R\bin\R.exe CMD INSTALL sparseDOSSA_1.14.0.zip && rm sparseDOSSA_1.14.0.tar.gz sparseDOSSA_1.14.0.zip |
| StartedAt: 2021-05-05 16:54:17 -0400 (Wed, 05 May 2021) |
| EndedAt: 2021-05-05 16:56:50 -0400 (Wed, 05 May 2021) |
| EllapsedTime: 152.7 seconds |
| RetCode: 0 |
| Status: OK |
##############################################################################
##############################################################################
###
### Running command:
###
### C:\cygwin\bin\curl.exe -O http://172.29.0.3/BBS/3.12/bioc/src/contrib/sparseDOSSA_1.14.0.tar.gz && rm -rf sparseDOSSA.buildbin-libdir && mkdir sparseDOSSA.buildbin-libdir && C:\Users\biocbuild\bbs-3.12-bioc\R\bin\R.exe CMD INSTALL --merge-multiarch --build --library=sparseDOSSA.buildbin-libdir sparseDOSSA_1.14.0.tar.gz && C:\Users\biocbuild\bbs-3.12-bioc\R\bin\R.exe CMD INSTALL sparseDOSSA_1.14.0.zip && rm sparseDOSSA_1.14.0.tar.gz sparseDOSSA_1.14.0.zip
###
##############################################################################
##############################################################################
% Total % Received % Xferd Average Speed Time Time Time Current
Dload Upload Total Spent Left Speed
0 0 0 0 0 0 0 0 --:--:-- --:--:-- --:--:-- 0
100 570k 100 570k 0 0 15.8M 0 --:--:-- --:--:-- --:--:-- 16.3M
install for i386
* installing *source* package 'sparseDOSSA' ...
** using staged installation
** R
** inst
** byte-compile and prepare package for lazy loading
Warning in .recacheSubclasses(def@className, def, env) :
undefined subclass "numericVector" of class "Mnumeric"; definition not updated
** help
*** installing help indices
converting help for package 'sparseDOSSA'
finding HTML links ... done
sparseDOSSA html
** building package indices
** installing vignettes
** testing if installed package can be loaded from temporary location
Warning in .recacheSubclasses(def@className, def, env) :
undefined subclass "numericVector" of class "Mnumeric"; definition not updated
** testing if installed package can be loaded from final location
Warning in .recacheSubclasses(def@className, def, env) :
undefined subclass "numericVector" of class "Mnumeric"; definition not updated
** testing if installed package keeps a record of temporary installation path
install for x64
* installing *source* package 'sparseDOSSA' ...
** testing if installed package can be loaded
Warning in .recacheSubclasses(def@className, def, env) :
undefined subclass "numericVector" of class "Mnumeric"; definition not updated
* MD5 sums
packaged installation of 'sparseDOSSA' as sparseDOSSA_1.14.0.zip
* DONE (sparseDOSSA)
* installing to library 'C:/Users/biocbuild/bbs-3.12-bioc/R/library'
package 'sparseDOSSA' successfully unpacked and MD5 sums checked