| Back to Multiple platform build/check report for BioC 3.12 | 
 | 
This page was generated on 2021-05-06 12:29:11 -0400 (Thu, 06 May 2021).
| To the developers/maintainers of the singscore package: Please make sure to use the following settings in order to reproduce any error or warning you see on this page. | 
| Package 1727/1974 | Hostname | OS / Arch | INSTALL | BUILD | CHECK | BUILD BIN | ||||||||
| singscore 1.10.0  (landing page) Dharmesh D. Bhuva 
 | malbec1 | Linux (Ubuntu 18.04.5 LTS) / x86_64 | OK | OK | OK |  | ||||||||
| tokay1 | Windows Server 2012 R2 Standard / x64 | OK | OK | OK | OK |  | ||||||||
| merida1 | macOS 10.14.6 Mojave / x86_64 | OK | OK | OK | OK |  | ||||||||
| Package: singscore | 
| Version: 1.10.0 | 
| Command: /home/biocbuild/bbs-3.12-bioc/R/bin/R CMD build --keep-empty-dirs --no-resave-data singscore | 
| StartedAt: 2021-05-05 22:03:57 -0400 (Wed, 05 May 2021) | 
| EndedAt: 2021-05-05 22:05:29 -0400 (Wed, 05 May 2021) | 
| EllapsedTime: 92.6 seconds | 
| RetCode: 0 | 
| Status: OK | 
| PackageFile: singscore_1.10.0.tar.gz | 
| PackageFileSize: 4.598 MiB | 
############################################################################## ############################################################################## ### ### Running command: ### ### /home/biocbuild/bbs-3.12-bioc/R/bin/R CMD build --keep-empty-dirs --no-resave-data singscore ### ############################################################################## ############################################################################## * checking for file ‘singscore/DESCRIPTION’ ... OK * preparing ‘singscore’: * checking DESCRIPTION meta-information ...It is recommended to use ‘given’ instead of ‘middle’. OK * installing the package to build vignettes * creating vignettes ... OK It is recommended to use ‘given’ instead of ‘middle’. * checking for LF line-endings in source and make files and shell scripts * checking for empty or unneeded directories * building ‘singscore_1.10.0.tar.gz’