| Back to Multiple platform build/check report for BioC 3.12 |
|
This page was generated on 2021-05-06 12:29:11 -0400 (Thu, 06 May 2021).
|
To the developers/maintainers of the simulatorZ package: Please make sure to use the following settings in order to reproduce any error or warning you see on this page. |
| Package 1721/1974 | Hostname | OS / Arch | INSTALL | BUILD | CHECK | BUILD BIN | ||||||||
| simulatorZ 1.24.0 (landing page) Yuqing Zhang
| malbec1 | Linux (Ubuntu 18.04.5 LTS) / x86_64 | ERROR | ERROR | skipped | |||||||||
| tokay1 | Windows Server 2012 R2 Standard / x64 | ERROR | ERROR | skipped | skipped | |||||||||
| merida1 | macOS 10.14.6 Mojave / x86_64 | ERROR | ERROR | skipped | skipped | |||||||||
| Package: simulatorZ |
| Version: 1.24.0 |
| Command: /home/biocbuild/bbs-3.12-bioc/R/bin/R CMD build --keep-empty-dirs --no-resave-data simulatorZ |
| StartedAt: 2021-05-05 22:02:39 -0400 (Wed, 05 May 2021) |
| EndedAt: 2021-05-05 22:02:40 -0400 (Wed, 05 May 2021) |
| EllapsedTime: 0.8 seconds |
| RetCode: 1 |
| Status: ERROR |
| PackageFile: None |
| PackageFileSize: NA |
##############################################################################
##############################################################################
###
### Running command:
###
### /home/biocbuild/bbs-3.12-bioc/R/bin/R CMD build --keep-empty-dirs --no-resave-data simulatorZ
###
##############################################################################
##############################################################################
* checking for file ‘simulatorZ/DESCRIPTION’ ... OK
* preparing ‘simulatorZ’:
* checking DESCRIPTION meta-information ... OK
* cleaning src
* installing the package to build vignettes
-----------------------------------
ERROR: dependency ‘CoxBoost’ is not available for package ‘simulatorZ’
* removing ‘/tmp/RtmpepuHX6/Rinst3a0b602aa927/simulatorZ’
-----------------------------------
ERROR: package installation failed