| Back to Multiple platform build/check report for BioC 3.12 |
|
This page was generated on 2021-05-06 12:33:36 -0400 (Thu, 06 May 2021).
|
To the developers/maintainers of the shinyTANDEM package: Please make sure to use the following settings in order to reproduce any error or warning you see on this page. |
| Package 1696/1974 | Hostname | OS / Arch | INSTALL | BUILD | CHECK | BUILD BIN | ||||||||
Frederic Fournier
| malbec1 | Linux (Ubuntu 18.04.5 LTS) / x86_64 | OK | OK | WARNINGS | |||||||||
| tokay1 | Windows Server 2012 R2 Standard / x64 | OK | OK | WARNINGS | OK | |||||||||
| merida1 | macOS 10.14.6 Mojave / x86_64 | ERROR | ERROR | skipped | skipped | |||||||||
| Package: shinyTANDEM |
| Version: 1.28.0 |
| Command: rm -rf shinyTANDEM.buildbin-libdir && mkdir shinyTANDEM.buildbin-libdir && C:\Users\biocbuild\bbs-3.12-bioc\R\bin\R.exe CMD INSTALL --merge-multiarch --build --library=shinyTANDEM.buildbin-libdir shinyTANDEM_1.28.0.tar.gz |
| StartedAt: 2021-05-06 10:06:54 -0400 (Thu, 06 May 2021) |
| EndedAt: 2021-05-06 10:07:14 -0400 (Thu, 06 May 2021) |
| EllapsedTime: 20.4 seconds |
| RetCode: 0 |
| Status: OK |
| PackageFile: shinyTANDEM_1.28.0.zip |
| PackageFileSize: 726.9 KiB |
##############################################################################
##############################################################################
###
### Running command:
###
### rm -rf shinyTANDEM.buildbin-libdir && mkdir shinyTANDEM.buildbin-libdir && C:\Users\biocbuild\bbs-3.12-bioc\R\bin\R.exe CMD INSTALL --merge-multiarch --build --library=shinyTANDEM.buildbin-libdir shinyTANDEM_1.28.0.tar.gz
###
##############################################################################
##############################################################################
install for i386
* installing *source* package 'shinyTANDEM' ...
** using staged installation
** R
** inst
** byte-compile and prepare package for lazy loading
Warning message:
Package 'rTANDEM' is deprecated and will be removed from Bioconductor
version 3.13
** help
*** installing help indices
converting help for package 'shinyTANDEM'
finding HTML links ... done
shinyTANDEM html
** building package indices
** installing vignettes
** testing if installed package can be loaded from temporary location
Warning: Package 'rTANDEM' is deprecated and will be removed from Bioconductor
version 3.13
Warning: Package 'shinyTANDEM' is deprecated and will be removed from
Bioconductor version 3.13
** testing if installed package can be loaded from final location
Warning: Package 'rTANDEM' is deprecated and will be removed from Bioconductor
version 3.13
Warning: Package 'shinyTANDEM' is deprecated and will be removed from
Bioconductor version 3.13
** testing if installed package keeps a record of temporary installation path
install for x64
* installing *source* package 'shinyTANDEM' ...
** testing if installed package can be loaded
Warning: Package 'rTANDEM' is deprecated and will be removed from Bioconductor
version 3.13
Warning: Package 'shinyTANDEM' is deprecated and will be removed from
Bioconductor version 3.13
* MD5 sums
packaged installation of 'shinyTANDEM' as shinyTANDEM_1.28.0.zip
* DONE (shinyTANDEM)