| Back to Multiple platform build/check report for BioC 3.12 | 
  | 
This page was generated on 2021-05-06 12:36:45 -0400 (Thu, 06 May 2021).
| 
To the developers/maintainers of the scuttle package: Please make sure to use the following settings in order to reproduce any error or warning you see on this page.  | 
| Package 1666/1974 | Hostname | OS / Arch | INSTALL | BUILD | CHECK | BUILD BIN | ||||||||
| scuttle 1.0.4  (landing page) Aaron Lun 
  | malbec1 | Linux (Ubuntu 18.04.5 LTS) / x86_64 | OK | OK | OK | |||||||||
| tokay1 | Windows Server 2012 R2 Standard / x64 | OK | OK | OK | OK | |||||||||
| merida1 | macOS 10.14.6 Mojave / x86_64 | OK | OK | OK | OK | |||||||||
| Package: scuttle | 
| Version: 1.0.4 | 
| Command: /Library/Frameworks/R.framework/Versions/Current/Resources/bin/R CMD build --keep-empty-dirs --no-resave-data scuttle | 
| StartedAt: 2021-05-05 22:05:50 -0400 (Wed, 05 May 2021) | 
| EndedAt: 2021-05-05 22:09:22 -0400 (Wed, 05 May 2021) | 
| EllapsedTime: 212.0 seconds | 
| RetCode: 0 | 
| Status: OK | 
| PackageFile: scuttle_1.0.4.tar.gz | 
| PackageFileSize: 378.5 KiB | 
############################################################################## ############################################################################## ### ### Running command: ### ### /Library/Frameworks/R.framework/Versions/Current/Resources/bin/R CMD build --keep-empty-dirs --no-resave-data scuttle ### ############################################################################## ############################################################################## * checking for file ‘scuttle/DESCRIPTION’ ... OK * preparing ‘scuttle’: * checking DESCRIPTION meta-information ... OK * cleaning src * installing the package to build vignettes * creating vignettes ... OK * cleaning src * checking for LF line-endings in source and make files and shell scripts * checking for empty or unneeded directories * building ‘scuttle_1.0.4.tar.gz’