| Back to Multiple platform build/check report for BioC 3.12 |
|
This page was generated on 2021-05-06 12:36:42 -0400 (Thu, 06 May 2021).
|
To the developers/maintainers of the scmeth package: Please make sure to use the following settings in order to reproduce any error or warning you see on this page. |
| Package 1648/1974 | Hostname | OS / Arch | INSTALL | BUILD | CHECK | BUILD BIN | ||||||||
| scmeth 1.10.0 (landing page) Divy Kangeyan
| malbec1 | Linux (Ubuntu 18.04.5 LTS) / x86_64 | OK | OK | OK | |||||||||
| tokay1 | Windows Server 2012 R2 Standard / x64 | OK | OK | OK | OK | |||||||||
| merida1 | macOS 10.14.6 Mojave / x86_64 | OK | OK | OK | OK | |||||||||
| Package: scmeth |
| Version: 1.10.0 |
| Command: /Library/Frameworks/R.framework/Versions/Current/Resources/bin/R CMD check --install=check:scmeth.install-out.txt --library=/Library/Frameworks/R.framework/Versions/Current/Resources/library --no-vignettes --timings scmeth_1.10.0.tar.gz |
| StartedAt: 2021-05-06 05:58:30 -0400 (Thu, 06 May 2021) |
| EndedAt: 2021-05-06 06:06:04 -0400 (Thu, 06 May 2021) |
| EllapsedTime: 454.0 seconds |
| RetCode: 0 |
| Status: OK |
| CheckDir: scmeth.Rcheck |
| Warnings: 0 |
##############################################################################
##############################################################################
###
### Running command:
###
### /Library/Frameworks/R.framework/Versions/Current/Resources/bin/R CMD check --install=check:scmeth.install-out.txt --library=/Library/Frameworks/R.framework/Versions/Current/Resources/library --no-vignettes --timings scmeth_1.10.0.tar.gz
###
##############################################################################
##############################################################################
* using log directory ‘/Users/biocbuild/bbs-3.12-bioc/meat/scmeth.Rcheck’
* using R version 4.0.5 (2021-03-31)
* using platform: x86_64-apple-darwin17.0 (64-bit)
* using session charset: UTF-8
* using option ‘--no-vignettes’
* checking for file ‘scmeth/DESCRIPTION’ ... OK
* checking extension type ... Package
* this is package ‘scmeth’ version ‘1.10.0’
* checking package namespace information ... OK
* checking package dependencies ... OK
* checking if this is a source package ... OK
* checking if there is a namespace ... OK
* checking for hidden files and directories ... OK
* checking for portable file names ... OK
* checking for sufficient/correct file permissions ... OK
* checking whether package ‘scmeth’ can be installed ... OK
* checking installed package size ... OK
* checking package directory ... OK
* checking ‘build’ directory ... OK
* checking DESCRIPTION meta-information ... OK
* checking top-level files ... OK
* checking for left-over files ... OK
* checking index information ... OK
* checking package subdirectories ... OK
* checking R files for non-ASCII characters ... OK
* checking R files for syntax errors ... OK
* checking whether the package can be loaded ... OK
* checking whether the package can be loaded with stated dependencies ... OK
* checking whether the package can be unloaded cleanly ... OK
* checking whether the namespace can be loaded with stated dependencies ... OK
* checking whether the namespace can be unloaded cleanly ... OK
* checking dependencies in R code ... NOTE
Namespace in Imports field not imported from: ‘reshape2’
All declared Imports should be used.
* checking S3 generic/method consistency ... OK
* checking replacement functions ... OK
* checking foreign function calls ... OK
* checking R code for possible problems ... OK
* checking Rd files ... OK
* checking Rd metadata ... OK
* checking Rd cross-references ... OK
* checking for missing documentation entries ... OK
* checking for code/documentation mismatches ... OK
* checking Rd \usage sections ... OK
* checking Rd contents ... OK
* checking for unstated dependencies in examples ... OK
* checking files in ‘vignettes’ ... OK
* checking examples ... OK
Examples with CPU (user + system) or elapsed time > 5s
user system elapsed
report 56.834 1.600 59.013
repMask 15.175 0.851 16.810
* checking for unstated dependencies in vignettes ... OK
* checking package vignettes in ‘inst/doc’ ... OK
* checking running R code from vignettes ... SKIPPED
* checking re-building of vignette outputs ... SKIPPED
* checking PDF version of manual ... OK
* DONE
Status: 1 NOTE
See
‘/Users/biocbuild/bbs-3.12-bioc/meat/scmeth.Rcheck/00check.log’
for details.
scmeth.Rcheck/00install.out
############################################################################## ############################################################################## ### ### Running command: ### ### /Library/Frameworks/R.framework/Versions/Current/Resources/bin/R CMD INSTALL scmeth ### ############################################################################## ############################################################################## * installing to library ‘/Library/Frameworks/R.framework/Versions/4.0/Resources/library’ * installing *source* package ‘scmeth’ ... ** using staged installation ** R ** inst ** byte-compile and prepare package for lazy loading ** help *** installing help indices ** building package indices ** installing vignettes ** testing if installed package can be loaded from temporary location ** testing if installed package can be loaded from final location ** testing if installed package keeps a record of temporary installation path * DONE (scmeth)
scmeth.Rcheck/scmeth-Ex.timings
| name | user | system | elapsed | |
| bsConversionPlot | 0.227 | 0.006 | 0.235 | |
| chromosomeCoverage | 1.513 | 0.044 | 1.562 | |
| coverage | 0.167 | 0.008 | 0.175 | |
| cpgDensity | 3.248 | 0.218 | 3.473 | |
| cpgDiscretization | 0.226 | 0.024 | 0.251 | |
| downsample | 0.410 | 0.024 | 0.433 | |
| featureCoverage | 3.696 | 0.139 | 4.432 | |
| mbiasplot | 0.015 | 0.007 | 0.023 | |
| methylationDist | 0.181 | 0.010 | 0.191 | |
| readmetrics | 0.071 | 0.002 | 0.073 | |
| repMask | 15.175 | 0.851 | 16.810 | |
| report | 56.834 | 1.600 | 59.013 | |