| Back to Multiple platform build/check report for BioC 3.12 | 
  | 
This page was generated on 2021-05-06 12:29:00 -0400 (Thu, 06 May 2021).
| 
To the developers/maintainers of the scater package: Please make sure to use the following settings in order to reproduce any error or warning you see on this page.  | 
| Package 1629/1974 | Hostname | OS / Arch | INSTALL | BUILD | CHECK | BUILD BIN | ||||||||
| scater 1.18.6  (landing page) Alan O'Callaghan 
  | malbec1 | Linux (Ubuntu 18.04.5 LTS) / x86_64 | OK | OK | OK | |||||||||
| tokay1 | Windows Server 2012 R2 Standard / x64 | OK | OK | WARNINGS | OK | |||||||||
| merida1 | macOS 10.14.6 Mojave / x86_64 | OK | OK | OK | OK | |||||||||
| Package: scater | 
| Version: 1.18.6 | 
| Command: /home/biocbuild/bbs-3.12-bioc/R/bin/R CMD build --keep-empty-dirs --no-resave-data scater | 
| StartedAt: 2021-05-05 21:40:25 -0400 (Wed, 05 May 2021) | 
| EndedAt: 2021-05-05 21:44:09 -0400 (Wed, 05 May 2021) | 
| EllapsedTime: 223.3 seconds | 
| RetCode: 0 | 
| Status: OK | 
| PackageFile: scater_1.18.6.tar.gz | 
| PackageFileSize: 3.902 MiB | 
############################################################################## ############################################################################## ### ### Running command: ### ### /home/biocbuild/bbs-3.12-bioc/R/bin/R CMD build --keep-empty-dirs --no-resave-data scater ### ############################################################################## ############################################################################## * checking for file ‘scater/DESCRIPTION’ ... OK * preparing ‘scater’: * checking DESCRIPTION meta-information ... OK * installing the package to build vignettes * creating vignettes ... OK * checking for LF line-endings in source and make files and shell scripts * checking for empty or unneeded directories * building ‘scater_1.18.6.tar.gz’