| Back to Multiple platform build/check report for BioC 3.12 | 
 | 
This page was generated on 2021-05-06 12:33:32 -0400 (Thu, 06 May 2021).
| To the developers/maintainers of the scTensor package: Please make sure to use the following settings in order to reproduce any error or warning you see on this page. | 
| Package 1663/1974 | Hostname | OS / Arch | INSTALL | BUILD | CHECK | BUILD BIN | ||||||||
| scTensor 2.0.0  (landing page) Koki Tsuyuzaki 
 | malbec1 | Linux (Ubuntu 18.04.5 LTS) / x86_64 | OK | OK | OK |  | ||||||||
| tokay1 | Windows Server 2012 R2 Standard / x64 | OK | OK | OK | OK |  | ||||||||
| merida1 | macOS 10.14.6 Mojave / x86_64 | OK | OK | OK | OK |  | ||||||||
| Package: scTensor | 
| Version: 2.0.0 | 
| Command: rm -rf scTensor.buildbin-libdir && mkdir scTensor.buildbin-libdir && C:\Users\biocbuild\bbs-3.12-bioc\R\bin\R.exe CMD INSTALL --merge-multiarch --build --library=scTensor.buildbin-libdir scTensor_2.0.0.tar.gz | 
| StartedAt: 2021-05-06 10:04:52 -0400 (Thu, 06 May 2021) | 
| EndedAt: 2021-05-06 10:06:35 -0400 (Thu, 06 May 2021) | 
| EllapsedTime: 103.2 seconds | 
| RetCode: 0 | 
| Status: OK | 
| PackageFile: scTensor_2.0.0.zip | 
| PackageFileSize: 5.936 MiB | 
##############################################################################
##############################################################################
###
### Running command:
###
###   rm -rf scTensor.buildbin-libdir && mkdir scTensor.buildbin-libdir && C:\Users\biocbuild\bbs-3.12-bioc\R\bin\R.exe CMD INSTALL --merge-multiarch --build --library=scTensor.buildbin-libdir scTensor_2.0.0.tar.gz
###
##############################################################################
##############################################################################
install for i386
* installing *source* package 'scTensor' ...
** using staged installation
** R
** data
** inst
** byte-compile and prepare package for lazy loading
Creating a new generic function for 'show' in package 'scTensor'
** help
*** installing help indices
  converting help for package 'scTensor'
    finding HTML links ... done
    CCSParams-class                         html  
    GermMale                                html  
    cellCellDecomp                          html  
    cellCellRanks                           html  
    cellCellReport                          html  
    cellCellSetting                         html  
    cellCellSimulate                        html  
    convertToNCBIGeneID                     html  
    getParam                                html  
    labelGermMale                           html  
    m                                       html  
    newCCSParams                            html  
    scTensor-package                        html  
    setParam                                html  
    tsneGermMale                            html  
    v                                       html  
** building package indices
** installing vignettes
** testing if installed package can be loaded from temporary location
** testing if installed package can be loaded from final location
** testing if installed package keeps a record of temporary installation path
install for x64
* installing *source* package 'scTensor' ...
** testing if installed package can be loaded
* MD5 sums
packaged installation of 'scTensor' as scTensor_2.0.0.zip
* DONE (scTensor)