| Back to Multiple platform build/check report for BioC 3.12 |
|
This page was generated on 2021-05-06 12:33:28 -0400 (Thu, 06 May 2021).
|
To the developers/maintainers of the scMerge package: Please make sure to use the following settings in order to reproduce any error or warning you see on this page. |
| Package 1647/1974 | Hostname | OS / Arch | INSTALL | BUILD | CHECK | BUILD BIN | ||||||||
| scMerge 1.6.0 (landing page) Yingxin Lin
| malbec1 | Linux (Ubuntu 18.04.5 LTS) / x86_64 | OK | OK | OK | |||||||||
| tokay1 | Windows Server 2012 R2 Standard / x64 | OK | OK | OK | OK | |||||||||
| merida1 | macOS 10.14.6 Mojave / x86_64 | OK | OK | OK | OK | |||||||||
| Package: scMerge |
| Version: 1.6.0 |
| Command: rm -rf scMerge.buildbin-libdir && mkdir scMerge.buildbin-libdir && C:\Users\biocbuild\bbs-3.12-bioc\R\bin\R.exe CMD INSTALL --merge-multiarch --build --library=scMerge.buildbin-libdir scMerge_1.6.0.tar.gz |
| StartedAt: 2021-05-06 10:04:00 -0400 (Thu, 06 May 2021) |
| EndedAt: 2021-05-06 10:04:38 -0400 (Thu, 06 May 2021) |
| EllapsedTime: 37.9 seconds |
| RetCode: 0 |
| Status: OK |
| PackageFile: scMerge_1.6.0.zip |
| PackageFileSize: 2.231 MiB |
##############################################################################
##############################################################################
###
### Running command:
###
### rm -rf scMerge.buildbin-libdir && mkdir scMerge.buildbin-libdir && C:\Users\biocbuild\bbs-3.12-bioc\R\bin\R.exe CMD INSTALL --merge-multiarch --build --library=scMerge.buildbin-libdir scMerge_1.6.0.tar.gz
###
##############################################################################
##############################################################################
install for i386
* installing *source* package 'scMerge' ...
** using staged installation
** R
** data
** inst
** byte-compile and prepare package for lazy loading
** help
*** installing help indices
converting help for package 'scMerge'
finding HTML links ... done
example_sce html
fastRUVIII html
ruvSimulate html
scMerge html
scRUVIII html
scRUVg html
scReplicate html
scSEGIndex html
sce_cbind html
segList html
segList_ensemblGeneID html
** building package indices
** installing vignettes
** testing if installed package can be loaded from temporary location
** testing if installed package can be loaded from final location
** testing if installed package keeps a record of temporary installation path
install for x64
* installing *source* package 'scMerge' ...
** testing if installed package can be loaded
* MD5 sums
packaged installation of 'scMerge' as scMerge_1.6.0.zip
* DONE (scMerge)