Back to Multiple platform build/check report for BioC 3.12 |
|
This page was generated on 2021-05-06 12:36:42 -0400 (Thu, 06 May 2021).
To the developers/maintainers of the scHOT package: Please make sure to use the following settings in order to reproduce any error or warning you see on this page. |
Package 1643/1974 | Hostname | OS / Arch | INSTALL | BUILD | CHECK | BUILD BIN | ||||||||
scHOT 1.2.0 (landing page) Shila Ghazanfar
| malbec1 | Linux (Ubuntu 18.04.5 LTS) / x86_64 | OK | OK | OK | |||||||||
tokay1 | Windows Server 2012 R2 Standard / x64 | OK | OK | OK | OK | |||||||||
merida1 | macOS 10.14.6 Mojave / x86_64 | OK | OK | OK | OK | |||||||||
Package: scHOT |
Version: 1.2.0 |
Command: /Library/Frameworks/R.framework/Versions/Current/Resources/bin/R CMD check --install=check:scHOT.install-out.txt --library=/Library/Frameworks/R.framework/Versions/Current/Resources/library --no-vignettes --timings scHOT_1.2.0.tar.gz |
StartedAt: 2021-05-06 05:55:51 -0400 (Thu, 06 May 2021) |
EndedAt: 2021-05-06 06:06:23 -0400 (Thu, 06 May 2021) |
EllapsedTime: 631.8 seconds |
RetCode: 0 |
Status: OK |
CheckDir: scHOT.Rcheck |
Warnings: 0 |
############################################################################## ############################################################################## ### ### Running command: ### ### /Library/Frameworks/R.framework/Versions/Current/Resources/bin/R CMD check --install=check:scHOT.install-out.txt --library=/Library/Frameworks/R.framework/Versions/Current/Resources/library --no-vignettes --timings scHOT_1.2.0.tar.gz ### ############################################################################## ############################################################################## * using log directory ‘/Users/biocbuild/bbs-3.12-bioc/meat/scHOT.Rcheck’ * using R version 4.0.5 (2021-03-31) * using platform: x86_64-apple-darwin17.0 (64-bit) * using session charset: UTF-8 * using option ‘--no-vignettes’ * checking for file ‘scHOT/DESCRIPTION’ ... OK * checking extension type ... Package * this is package ‘scHOT’ version ‘1.2.0’ * package encoding: UTF-8 * checking package namespace information ... OK * checking package dependencies ... OK * checking if this is a source package ... OK * checking if there is a namespace ... OK * checking for hidden files and directories ... OK * checking for portable file names ... OK * checking for sufficient/correct file permissions ... OK * checking whether package ‘scHOT’ can be installed ... OK * checking installed package size ... OK * checking package directory ... OK * checking ‘build’ directory ... OK * checking DESCRIPTION meta-information ... OK * checking top-level files ... OK * checking for left-over files ... OK * checking index information ... OK * checking package subdirectories ... OK * checking R files for non-ASCII characters ... OK * checking R files for syntax errors ... OK * checking whether the package can be loaded ... OK * checking whether the package can be loaded with stated dependencies ... OK * checking whether the package can be unloaded cleanly ... OK * checking whether the namespace can be loaded with stated dependencies ... OK * checking whether the namespace can be unloaded cleanly ... OK * checking dependencies in R code ... OK * checking S3 generic/method consistency ... OK * checking replacement functions ... OK * checking foreign function calls ... OK * checking R code for possible problems ... OK * checking Rd files ... OK * checking Rd metadata ... OK * checking Rd cross-references ... OK * checking for missing documentation entries ... OK * checking for code/documentation mismatches ... OK * checking Rd \usage sections ... OK * checking Rd contents ... OK * checking for unstated dependencies in examples ... OK * checking contents of ‘data’ directory ... OK * checking data for non-ASCII characters ... OK * checking data for ASCII and uncompressed saves ... OK * checking files in ‘vignettes’ ... OK * checking examples ... OK Examples with CPU (user + system) or elapsed time > 5s user system elapsed scHOT 132.081 0.762 134.480 scHOT_performPermutationTest 129.598 0.872 130.670 scHOT_estimatePvalues 126.397 0.880 127.397 * checking for unstated dependencies in vignettes ... OK * checking package vignettes in ‘inst/doc’ ... OK * checking running R code from vignettes ... SKIPPED * checking re-building of vignette outputs ... SKIPPED * checking PDF version of manual ... OK * DONE Status: OK
scHOT.Rcheck/00install.out
############################################################################## ############################################################################## ### ### Running command: ### ### /Library/Frameworks/R.framework/Versions/Current/Resources/bin/R CMD INSTALL scHOT ### ############################################################################## ############################################################################## * installing to library ‘/Library/Frameworks/R.framework/Versions/4.0/Resources/library’ * installing *source* package ‘scHOT’ ... ** using staged installation ** R ** data *** moving datasets to lazyload DB ** byte-compile and prepare package for lazy loading ** help *** installing help indices ** building package indices ** installing vignettes ** testing if installed package can be loaded from temporary location ** testing if installed package can be loaded from final location ** testing if installed package keeps a record of temporary installation path * DONE (scHOT)
scHOT.Rcheck/scHOT-Ex.timings
name | user | system | elapsed | |
params-set | 0.436 | 0.025 | 0.463 | |
plotColouredExpression | 1.802 | 0.050 | 2.055 | |
plotHigherOrderSequence | 2.748 | 0.150 | 2.902 | |
positionColData-set | 0.130 | 0.002 | 0.132 | |
positionType-set | 0.117 | 0.002 | 0.118 | |
scHOT | 132.081 | 0.762 | 134.480 | |
scHOT_addTestingScaffold | 0.192 | 0.002 | 0.194 | |
scHOT_buildFromMatrix | 0.136 | 0.001 | 0.137 | |
scHOT_buildFromSCE | 0.512 | 0.013 | 0.526 | |
scHOT_calculateGlobalHigherOrderFunction | 0.291 | 0.004 | 0.296 | |
scHOT_calculateHigherOrderTestStatistics | 1.752 | 0.030 | 1.784 | |
scHOT_estimatePvalues | 126.397 | 0.880 | 127.397 | |
scHOT_output-set | 0.149 | 0.003 | 0.153 | |
scHOT_performPermutationTest | 129.598 | 0.872 | 130.670 | |
scHOT_setPermutationScaffold | 0.281 | 0.003 | 0.284 | |
scHOT_setWeightMatrix | 0.233 | 0.002 | 0.236 | |
scHOT_stripOutput | 0.128 | 0.001 | 0.129 | |
spatialWeightMatrix | 0.005 | 0.000 | 0.005 | |
testingScaffold-set | 0.169 | 0.002 | 0.171 | |
thin | 0.016 | 0.001 | 0.018 | |
trajectoryWeightMatrix | 0.005 | 0.000 | 0.007 | |
weightMatrix-set | 0.428 | 0.014 | 0.442 | |
weightedPearson | 0.000 | 0.001 | 0.001 | |
weightedSpearman | 0.000 | 0.001 | 0.001 | |
weightedVariance | 0 | 0 | 0 | |
weightedZIKendall | 0.002 | 0.000 | 0.002 | |
weightedZISpearman | 0.001 | 0.000 | 0.002 | |