| Back to Multiple platform build/check report for BioC 3.12 | 
 | 
This page was generated on 2021-05-06 12:33:27 -0400 (Thu, 06 May 2021).
| To the developers/maintainers of the scClassify package: Please make sure to use the following settings in order to reproduce any error or warning you see on this page. | 
| Package 1633/1974 | Hostname | OS / Arch | INSTALL | BUILD | CHECK | BUILD BIN | ||||||||
| scClassify 1.2.0  (landing page) Yingxin Lin 
 | malbec1 | Linux (Ubuntu 18.04.5 LTS) / x86_64 | OK | OK | OK |  | ||||||||
| tokay1 | Windows Server 2012 R2 Standard / x64 | OK | OK | OK | OK |  | ||||||||
| merida1 | macOS 10.14.6 Mojave / x86_64 | OK | OK | OK | OK |  | ||||||||
| Package: scClassify | 
| Version: 1.2.0 | 
| Command: C:\Users\biocbuild\bbs-3.12-bioc\R\bin\R.exe CMD check --force-multiarch --install=check:scClassify.install-out.txt --library=C:\Users\biocbuild\bbs-3.12-bioc\R\library --no-vignettes --timings scClassify_1.2.0.tar.gz | 
| StartedAt: 2021-05-06 06:37:01 -0400 (Thu, 06 May 2021) | 
| EndedAt: 2021-05-06 06:46:07 -0400 (Thu, 06 May 2021) | 
| EllapsedTime: 546.1 seconds | 
| RetCode: 0 | 
| Status: OK | 
| CheckDir: scClassify.Rcheck | 
| Warnings: 0 | 
##############################################################################
##############################################################################
###
### Running command:
###
###   C:\Users\biocbuild\bbs-3.12-bioc\R\bin\R.exe CMD check --force-multiarch --install=check:scClassify.install-out.txt --library=C:\Users\biocbuild\bbs-3.12-bioc\R\library --no-vignettes --timings scClassify_1.2.0.tar.gz
###
##############################################################################
##############################################################################
* using log directory 'C:/Users/biocbuild/bbs-3.12-bioc/meat/scClassify.Rcheck'
* using R version 4.0.5 (2021-03-31)
* using platform: x86_64-w64-mingw32 (64-bit)
* using session charset: ISO8859-1
* using option '--no-vignettes'
* checking for file 'scClassify/DESCRIPTION' ... OK
* checking extension type ... Package
* this is package 'scClassify' version '1.2.0'
* package encoding: UTF-8
* checking package namespace information ... OK
* checking package dependencies ... OK
* checking if this is a source package ... OK
* checking if there is a namespace ... OK
* checking for hidden files and directories ... OK
* checking for portable file names ... OK
* checking whether package 'scClassify' can be installed ... OK
* checking installed package size ... OK
* checking package directory ... OK
* checking 'build' directory ... OK
* checking DESCRIPTION meta-information ... OK
* checking top-level files ... OK
* checking for left-over files ... OK
* checking index information ... OK
* checking package subdirectories ... OK
* checking R files for non-ASCII characters ... OK
* checking R files for syntax errors ... OK
* loading checks for arch 'i386'
** checking whether the package can be loaded ... OK
** checking whether the package can be loaded with stated dependencies ... OK
** checking whether the package can be unloaded cleanly ... OK
** checking whether the namespace can be loaded with stated dependencies ... OK
** checking whether the namespace can be unloaded cleanly ... OK
* loading checks for arch 'x64'
** checking whether the package can be loaded ... OK
** checking whether the package can be loaded with stated dependencies ... OK
** checking whether the package can be unloaded cleanly ... OK
** checking whether the namespace can be loaded with stated dependencies ... OK
** checking whether the namespace can be unloaded cleanly ... OK
* checking dependencies in R code ... OK
* checking S3 generic/method consistency ... OK
* checking replacement functions ... OK
* checking foreign function calls ... OK
* checking R code for possible problems ... OK
* checking Rd files ... OK
* checking Rd metadata ... OK
* checking Rd cross-references ... OK
* checking for missing documentation entries ... OK
* checking for code/documentation mismatches ... OK
* checking Rd \usage sections ... OK
* checking Rd contents ... OK
* checking for unstated dependencies in examples ... OK
* checking contents of 'data' directory ... OK
* checking data for non-ASCII characters ... OK
* checking data for ASCII and uncompressed saves ... OK
* checking files in 'vignettes' ... OK
* checking examples ...
** running examples for arch 'i386' ... OK
Examples with CPU (user + system) or elapsed time > 5s
                          user system elapsed
runSampleCal            105.76   0.81  104.73
predict_scClassifyJoint  29.71   0.62   28.89
predict_scClassify       18.03   1.07   18.64
scClassify               16.02   0.44   15.89
** running examples for arch 'x64' ... OK
Examples with CPU (user + system) or elapsed time > 5s
                          user system elapsed
runSampleCal            128.68   3.22  128.82
predict_scClassifyJoint  31.09   0.81   31.14
scClassify               18.57   0.42   19.29
predict_scClassify       15.20   0.47   15.39
* checking for unstated dependencies in vignettes ... OK
* checking package vignettes in 'inst/doc' ... OK
* checking running R code from vignettes ... SKIPPED
* checking re-building of vignette outputs ... SKIPPED
* checking PDF version of manual ... OK
* DONE
Status: OK
scClassify.Rcheck/00install.out
##############################################################################
##############################################################################
###
### Running command:
###
###   C:\cygwin\bin\curl.exe -O http://172.29.0.3/BBS/3.12/bioc/src/contrib/scClassify_1.2.0.tar.gz && rm -rf scClassify.buildbin-libdir && mkdir scClassify.buildbin-libdir && C:\Users\biocbuild\bbs-3.12-bioc\R\bin\R.exe CMD INSTALL --merge-multiarch --build --library=scClassify.buildbin-libdir scClassify_1.2.0.tar.gz && C:\Users\biocbuild\bbs-3.12-bioc\R\bin\R.exe CMD INSTALL scClassify_1.2.0.zip && rm scClassify_1.2.0.tar.gz scClassify_1.2.0.zip
###
##############################################################################
##############################################################################
  % Total    % Received % Xferd  Average Speed   Time    Time     Time  Current
                                 Dload  Upload   Total   Spent    Left  Speed
  0     0    0     0    0     0      0      0 --:--:-- --:--:-- --:--:--     0
100 2343k  100 2343k    0     0  31.2M      0 --:--:-- --:--:-- --:--:-- 31.7M
install for i386
* installing *source* package 'scClassify' ...
** using staged installation
** R
** data
** byte-compile and prepare package for lazy loading
** help
*** installing help indices
  converting help for package 'scClassify'
    finding HTML links ... done
    cellTypeTrain                           html  
    cellTypeTree                            html  
    dot-scClassifyTrainModel                html  
    features                                html  
    getN                                    html  
    learningCurve                           html  
    model                                   html  
    modelweights                            html  
    name                                    html  
    plotCellTypeTree                        html  
    predict_scClassify                      html  
    predict_scClassifyJoint                 html  
    runHOPACH                               html  
    runSampleCal                            html  
    scClassify                              html  
    scClassifyTrainModel-class              html  
    scClassifyTrainModelList-class          html  
    scClassifyTrainModelList                html  
    scClassify_example                      html  
    trainClassExample_wang                  html  
    trainClassExample_xin                   html  
    train_scClassify                        html  
*** copying figures
** building package indices
** installing vignettes
** testing if installed package can be loaded from temporary location
** testing if installed package can be loaded from final location
** testing if installed package keeps a record of temporary installation path
install for x64
* installing *source* package 'scClassify' ...
** testing if installed package can be loaded
* MD5 sums
packaged installation of 'scClassify' as scClassify_1.2.0.zip
* DONE (scClassify)
* installing to library 'C:/Users/biocbuild/bbs-3.12-bioc/R/library'
package 'scClassify' successfully unpacked and MD5 sums checked
| scClassify.Rcheck/examples_i386/scClassify-Ex.timings 
 | scClassify.Rcheck/examples_x64/scClassify-Ex.timings 
 |