| Back to Multiple platform build/check report for BioC 3.12 |
|
This page was generated on 2021-05-06 12:36:39 -0400 (Thu, 06 May 2021).
|
To the developers/maintainers of the savR package: Please make sure to use the following settings in order to reproduce any error or warning you see on this page. |
| Package 1620/1974 | Hostname | OS / Arch | INSTALL | BUILD | CHECK | BUILD BIN | ||||||||
| savR 1.28.0 (landing page) R. Brent Calder
| malbec1 | Linux (Ubuntu 18.04.5 LTS) / x86_64 | OK | OK | OK | |||||||||
| tokay1 | Windows Server 2012 R2 Standard / x64 | OK | OK | OK | OK | |||||||||
| merida1 | macOS 10.14.6 Mojave / x86_64 | OK | OK | OK | OK | |||||||||
| Package: savR |
| Version: 1.28.0 |
| Command: rm -rf savR.buildbin-libdir && mkdir savR.buildbin-libdir && /Users/biocbuild/BBS/utils/build-universal.sh savR_1.28.0.tar.gz /Library/Frameworks/R.framework/Versions/Current/Resources/bin/R savR.buildbin-libdir |
| StartedAt: 2021-05-06 09:54:44 -0400 (Thu, 06 May 2021) |
| EndedAt: 2021-05-06 09:55:43 -0400 (Thu, 06 May 2021) |
| EllapsedTime: 59.6 seconds |
| RetCode: 0 |
| Status: OK |
| PackageFile: savR_1.28.0.tgz |
| PackageFileSize: 738.8 KiB |
############################################################################## ############################################################################## ### ### Running command: ### ### rm -rf savR.buildbin-libdir && mkdir savR.buildbin-libdir && /Users/biocbuild/BBS/utils/build-universal.sh savR_1.28.0.tar.gz /Library/Frameworks/R.framework/Versions/Current/Resources/bin/R savR.buildbin-libdir ### ############################################################################## ############################################################################## >>>>>>> >>>>>>> INSTALLATION WITH 'R CMD INSTALL --preclean --no-multiarch --library=savR.buildbin-libdir savR_1.28.0.tar.gz' >>>>>>> * installing *source* package ‘savR’ ... ** using staged installation ** R ** inst ** byte-compile and prepare package for lazy loading ** help *** installing help indices ** building package indices ** installing vignettes ** testing if installed package can be loaded from temporary location ** testing if installed package can be loaded from final location ** testing if installed package keeps a record of temporary installation path * DONE (savR)