| Back to Multiple platform build/check report for BioC 3.12 |
|
This page was generated on 2021-05-06 12:36:39 -0400 (Thu, 06 May 2021).
|
To the developers/maintainers of the sangeranalyseR package: Please make sure to use the following settings in order to reproduce any error or warning you see on this page. |
| Package 1616/1974 | Hostname | OS / Arch | INSTALL | BUILD | CHECK | BUILD BIN | ||||||||
| sangeranalyseR 1.0.0 (landing page) Kuan-Hao Chao
| malbec1 | Linux (Ubuntu 18.04.5 LTS) / x86_64 | OK | OK | WARNINGS | |||||||||
| tokay1 | Windows Server 2012 R2 Standard / x64 | OK | OK | WARNINGS | OK | |||||||||
| merida1 | macOS 10.14.6 Mojave / x86_64 | OK | OK | WARNINGS | OK | |||||||||
| Package: sangeranalyseR |
| Version: 1.0.0 |
| Command: rm -rf sangeranalyseR.buildbin-libdir && mkdir sangeranalyseR.buildbin-libdir && /Users/biocbuild/BBS/utils/build-universal.sh sangeranalyseR_1.0.0.tar.gz /Library/Frameworks/R.framework/Versions/Current/Resources/bin/R sangeranalyseR.buildbin-libdir |
| StartedAt: 2021-05-06 09:54:30 -0400 (Thu, 06 May 2021) |
| EndedAt: 2021-05-06 09:55:30 -0400 (Thu, 06 May 2021) |
| EllapsedTime: 59.7 seconds |
| RetCode: 0 |
| Status: OK |
| PackageFile: sangeranalyseR_1.0.0.tgz |
| PackageFileSize: 5.407 MiB |
############################################################################## ############################################################################## ### ### Running command: ### ### rm -rf sangeranalyseR.buildbin-libdir && mkdir sangeranalyseR.buildbin-libdir && /Users/biocbuild/BBS/utils/build-universal.sh sangeranalyseR_1.0.0.tar.gz /Library/Frameworks/R.framework/Versions/Current/Resources/bin/R sangeranalyseR.buildbin-libdir ### ############################################################################## ############################################################################## >>>>>>> >>>>>>> INSTALLATION WITH 'R CMD INSTALL --preclean --no-multiarch --library=sangeranalyseR.buildbin-libdir sangeranalyseR_1.0.0.tar.gz' >>>>>>> * installing *source* package ‘sangeranalyseR’ ... ** using staged installation ** R ** data ** inst ** byte-compile and prepare package for lazy loading Note: wrong number of arguments to '==' ** help *** installing help indices ** building package indices ** installing vignettes ** testing if installed package can be loaded from temporary location ** testing if installed package can be loaded from final location ** testing if installed package keeps a record of temporary installation path * DONE (sangeranalyseR)