| Back to Multiple platform build/check report for BioC 3.12 |
|
This page was generated on 2021-05-06 12:33:25 -0400 (Thu, 06 May 2021).
|
To the developers/maintainers of the sampleClassifier package: Please make sure to use the following settings in order to reproduce any error or warning you see on this page. |
| Package 1614/1974 | Hostname | OS / Arch | INSTALL | BUILD | CHECK | BUILD BIN | ||||||||
| sampleClassifier 1.14.2 (landing page) Khadija El Amrani
| malbec1 | Linux (Ubuntu 18.04.5 LTS) / x86_64 | OK | OK | OK | |||||||||
| tokay1 | Windows Server 2012 R2 Standard / x64 | OK | OK | OK | OK | |||||||||
| merida1 | macOS 10.14.6 Mojave / x86_64 | OK | OK | OK | OK | |||||||||
| Package: sampleClassifier |
| Version: 1.14.2 |
| Command: C:\Users\biocbuild\bbs-3.12-bioc\R\bin\R.exe CMD check --force-multiarch --install=check:sampleClassifier.install-out.txt --library=C:\Users\biocbuild\bbs-3.12-bioc\R\library --no-vignettes --timings sampleClassifier_1.14.2.tar.gz |
| StartedAt: 2021-05-06 06:34:31 -0400 (Thu, 06 May 2021) |
| EndedAt: 2021-05-06 06:43:58 -0400 (Thu, 06 May 2021) |
| EllapsedTime: 566.5 seconds |
| RetCode: 0 |
| Status: OK |
| CheckDir: sampleClassifier.Rcheck |
| Warnings: 0 |
##############################################################################
##############################################################################
###
### Running command:
###
### C:\Users\biocbuild\bbs-3.12-bioc\R\bin\R.exe CMD check --force-multiarch --install=check:sampleClassifier.install-out.txt --library=C:\Users\biocbuild\bbs-3.12-bioc\R\library --no-vignettes --timings sampleClassifier_1.14.2.tar.gz
###
##############################################################################
##############################################################################
* using log directory 'C:/Users/biocbuild/bbs-3.12-bioc/meat/sampleClassifier.Rcheck'
* using R version 4.0.5 (2021-03-31)
* using platform: x86_64-w64-mingw32 (64-bit)
* using session charset: ISO8859-1
* using option '--no-vignettes'
* checking for file 'sampleClassifier/DESCRIPTION' ... OK
* checking extension type ... Package
* this is package 'sampleClassifier' version '1.14.2'
* checking package namespace information ... OK
* checking package dependencies ... OK
* checking if this is a source package ... OK
* checking if there is a namespace ... OK
* checking for hidden files and directories ... OK
* checking for portable file names ... OK
* checking whether package 'sampleClassifier' can be installed ... OK
* checking installed package size ... OK
* checking package directory ... OK
* checking 'build' directory ... OK
* checking DESCRIPTION meta-information ... OK
* checking top-level files ... OK
* checking for left-over files ... OK
* checking index information ... OK
* checking package subdirectories ... OK
* checking R files for non-ASCII characters ... OK
* checking R files for syntax errors ... OK
* loading checks for arch 'i386'
** checking whether the package can be loaded ... OK
** checking whether the package can be loaded with stated dependencies ... OK
** checking whether the package can be unloaded cleanly ... OK
** checking whether the namespace can be loaded with stated dependencies ... OK
** checking whether the namespace can be unloaded cleanly ... OK
* loading checks for arch 'x64'
** checking whether the package can be loaded ... OK
** checking whether the package can be loaded with stated dependencies ... OK
** checking whether the package can be unloaded cleanly ... OK
** checking whether the namespace can be loaded with stated dependencies ... OK
** checking whether the namespace can be unloaded cleanly ... OK
* checking dependencies in R code ... OK
* checking S3 generic/method consistency ... OK
* checking replacement functions ... OK
* checking foreign function calls ... OK
* checking R code for possible problems ... OK
* checking Rd files ... OK
* checking Rd metadata ... OK
* checking Rd cross-references ... OK
* checking for missing documentation entries ... OK
* checking for code/documentation mismatches ... OK
* checking Rd \usage sections ... OK
* checking Rd contents ... OK
* checking for unstated dependencies in examples ... OK
* checking files in 'vignettes' ... OK
* checking examples ...
** running examples for arch 'i386' ... OK
Examples with CPU (user + system) or elapsed time > 5s
user system elapsed
classifyProfile.rnaseq 93.43 0.37 93.90
classifyProfile 36.92 1.09 38.36
classifyProfile.svm 30.07 0.70 30.79
get.heatmap 28.19 0.59 28.82
classifyProfile.rnaseq.svm 17.47 1.10 18.56
** running examples for arch 'x64' ... OK
Examples with CPU (user + system) or elapsed time > 5s
user system elapsed
classifyProfile.rnaseq 85.00 0.50 85.50
classifyProfile 29.05 0.47 29.52
classifyProfile.svm 29.03 0.36 29.39
get.heatmap 26.41 0.33 26.73
classifyProfile.rnaseq.svm 13.58 0.20 13.78
* checking for unstated dependencies in vignettes ... OK
* checking package vignettes in 'inst/doc' ... OK
* checking running R code from vignettes ... SKIPPED
* checking re-building of vignette outputs ... SKIPPED
* checking PDF version of manual ... OK
* DONE
Status: OK
sampleClassifier.Rcheck/00install.out
##############################################################################
##############################################################################
###
### Running command:
###
### C:\cygwin\bin\curl.exe -O http://172.29.0.3/BBS/3.12/bioc/src/contrib/sampleClassifier_1.14.2.tar.gz && rm -rf sampleClassifier.buildbin-libdir && mkdir sampleClassifier.buildbin-libdir && C:\Users\biocbuild\bbs-3.12-bioc\R\bin\R.exe CMD INSTALL --merge-multiarch --build --library=sampleClassifier.buildbin-libdir sampleClassifier_1.14.2.tar.gz && C:\Users\biocbuild\bbs-3.12-bioc\R\bin\R.exe CMD INSTALL sampleClassifier_1.14.2.zip && rm sampleClassifier_1.14.2.tar.gz sampleClassifier_1.14.2.zip
###
##############################################################################
##############################################################################
% Total % Received % Xferd Average Speed Time Time Time Current
Dload Upload Total Spent Left Speed
0 0 0 0 0 0 0 0 --:--:-- --:--:-- --:--:-- 0
100 220k 100 220k 0 0 11.2M 0 --:--:-- --:--:-- --:--:-- 11.9M
install for i386
* installing *source* package 'sampleClassifier' ...
** using staged installation
** R
** byte-compile and prepare package for lazy loading
** help
*** installing help indices
converting help for package 'sampleClassifier'
finding HTML links ... done
classifyProfile html
classifyProfile.rnaseq html
classifyProfile.rnaseq.svm html
classifyProfile.svm html
get.heatmap html
sampleClassifier-internal html
sampleClassifier-package html
** building package indices
** installing vignettes
** testing if installed package can be loaded from temporary location
** testing if installed package can be loaded from final location
** testing if installed package keeps a record of temporary installation path
install for x64
* installing *source* package 'sampleClassifier' ...
** testing if installed package can be loaded
* MD5 sums
packaged installation of 'sampleClassifier' as sampleClassifier_1.14.2.zip
* DONE (sampleClassifier)
* installing to library 'C:/Users/biocbuild/bbs-3.12-bioc/R/library'
package 'sampleClassifier' successfully unpacked and MD5 sums checked
|
sampleClassifier.Rcheck/examples_i386/sampleClassifier-Ex.timings
|
sampleClassifier.Rcheck/examples_x64/sampleClassifier-Ex.timings
|