| Back to Multiple platform build/check report for BioC 3.12 |
|
This page was generated on 2021-05-06 12:28:56 -0400 (Thu, 06 May 2021).
|
To the developers/maintainers of the rtracklayer package: Please make sure to use the following settings in order to reproduce any error or warning you see on this page. |
| Package 1598/1974 | Hostname | OS / Arch | INSTALL | BUILD | CHECK | BUILD BIN | ||||||||
| rtracklayer 1.50.0 (landing page) Michael Lawrence
| malbec1 | Linux (Ubuntu 18.04.5 LTS) / x86_64 | OK | OK | WARNINGS | |||||||||
| tokay1 | Windows Server 2012 R2 Standard / x64 | OK | OK | ERROR | OK | |||||||||
| merida1 | macOS 10.14.6 Mojave / x86_64 | OK | OK | WARNINGS | OK | |||||||||
| Package: rtracklayer |
| Version: 1.50.0 |
| Command: /home/biocbuild/bbs-3.12-bioc/R/bin/R CMD build --keep-empty-dirs --no-resave-data rtracklayer |
| StartedAt: 2021-05-05 21:37:39 -0400 (Wed, 05 May 2021) |
| EndedAt: 2021-05-05 21:39:09 -0400 (Wed, 05 May 2021) |
| EllapsedTime: 90.1 seconds |
| RetCode: 0 |
| Status: OK |
| PackageFile: rtracklayer_1.50.0.tar.gz |
| PackageFileSize: 6.074 MiB |
############################################################################## ############################################################################## ### ### Running command: ### ### /home/biocbuild/bbs-3.12-bioc/R/bin/R CMD build --keep-empty-dirs --no-resave-data rtracklayer ### ############################################################################## ############################################################################## * checking for file ‘rtracklayer/DESCRIPTION’ ... OK * preparing ‘rtracklayer’: * checking DESCRIPTION meta-information ... OK * cleaning src * installing the package to build vignettes * creating vignettes ... OK * cleaning src * checking for LF line-endings in source and make files and shell scripts * checking for empty or unneeded directories * looking to see if a ‘data/datalist’ file should be added * building ‘rtracklayer_1.50.0.tar.gz’