| Back to Multiple platform build/check report for BioC 3.12 |
|
This page was generated on 2021-05-06 12:33:19 -0400 (Thu, 06 May 2021).
|
To the developers/maintainers of the rnaseqcomp package: Please make sure to use the following settings in order to reproduce any error or warning you see on this page. |
| Package 1555/1974 | Hostname | OS / Arch | INSTALL | BUILD | CHECK | BUILD BIN | ||||||||
| rnaseqcomp 1.20.0 (landing page) Mingxiang Teng
| malbec1 | Linux (Ubuntu 18.04.5 LTS) / x86_64 | OK | OK | OK | |||||||||
| tokay1 | Windows Server 2012 R2 Standard / x64 | OK | OK | OK | OK | |||||||||
| merida1 | macOS 10.14.6 Mojave / x86_64 | OK | OK | OK | OK | |||||||||
| Package: rnaseqcomp |
| Version: 1.20.0 |
| Command: rm -rf rnaseqcomp.buildbin-libdir && mkdir rnaseqcomp.buildbin-libdir && C:\Users\biocbuild\bbs-3.12-bioc\R\bin\R.exe CMD INSTALL --merge-multiarch --build --library=rnaseqcomp.buildbin-libdir rnaseqcomp_1.20.0.tar.gz |
| StartedAt: 2021-05-06 09:58:35 -0400 (Thu, 06 May 2021) |
| EndedAt: 2021-05-06 09:58:41 -0400 (Thu, 06 May 2021) |
| EllapsedTime: 6.1 seconds |
| RetCode: 0 |
| Status: OK |
| PackageFile: rnaseqcomp_1.20.0.zip |
| PackageFileSize: 1.455 MiB |
##############################################################################
##############################################################################
###
### Running command:
###
### rm -rf rnaseqcomp.buildbin-libdir && mkdir rnaseqcomp.buildbin-libdir && C:\Users\biocbuild\bbs-3.12-bioc\R\bin\R.exe CMD INSTALL --merge-multiarch --build --library=rnaseqcomp.buildbin-libdir rnaseqcomp_1.20.0.tar.gz
###
##############################################################################
##############################################################################
install for i386
* installing *source* package 'rnaseqcomp' ...
** using staged installation
** R
** data
** inst
** byte-compile and prepare package for lazy loading
** help
*** installing help indices
converting help for package 'rnaseqcomp'
finding HTML links ... done
check_rnaseqcomp html
plot2TX html
plotFC html
plotNE html
plotROC html
plotSD html
rnaseqcomp-class html
signalCalibrate html
simdata html
** building package indices
** installing vignettes
** testing if installed package can be loaded from temporary location
** testing if installed package can be loaded from final location
** testing if installed package keeps a record of temporary installation path
install for x64
* installing *source* package 'rnaseqcomp' ...
** testing if installed package can be loaded
* MD5 sums
packaged installation of 'rnaseqcomp' as rnaseqcomp_1.20.0.zip
* DONE (rnaseqcomp)