| Back to Multiple platform build/check report for BioC 3.12 |
|
This page was generated on 2021-05-06 12:33:21 -0400 (Thu, 06 May 2021).
|
To the developers/maintainers of the rRDP package: Please make sure to use the following settings in order to reproduce any error or warning you see on this page. |
| Package 1578/1974 | Hostname | OS / Arch | INSTALL | BUILD | CHECK | BUILD BIN | ||||||||
| rRDP 1.24.0 (landing page) Michael Hahsler
| malbec1 | Linux (Ubuntu 18.04.5 LTS) / x86_64 | OK | OK | OK | |||||||||
| tokay1 | Windows Server 2012 R2 Standard / x64 | OK | OK | OK | OK | |||||||||
| merida1 | macOS 10.14.6 Mojave / x86_64 | OK | OK | OK | OK | |||||||||
| Package: rRDP |
| Version: 1.24.0 |
| Command: rm -rf rRDP.buildbin-libdir && mkdir rRDP.buildbin-libdir && C:\Users\biocbuild\bbs-3.12-bioc\R\bin\R.exe --arch x64 CMD INSTALL --no-multiarch --build --library=rRDP.buildbin-libdir rRDP_1.24.0.tar.gz |
| StartedAt: 2021-05-06 10:00:02 -0400 (Thu, 06 May 2021) |
| EndedAt: 2021-05-06 10:00:36 -0400 (Thu, 06 May 2021) |
| EllapsedTime: 33.8 seconds |
| RetCode: 0 |
| Status: OK |
| PackageFile: rRDP_1.24.0.zip |
| PackageFileSize: 1.565 MiB |
##############################################################################
##############################################################################
###
### Running command:
###
### rm -rf rRDP.buildbin-libdir && mkdir rRDP.buildbin-libdir && C:\Users\biocbuild\bbs-3.12-bioc\R\bin\R.exe --arch x64 CMD INSTALL --no-multiarch --build --library=rRDP.buildbin-libdir rRDP_1.24.0.tar.gz
###
##############################################################################
##############################################################################
* installing *source* package 'rRDP' ...
** using staged installation
** R
** inst
** byte-compile and prepare package for lazy loading
** help
*** installing help indices
converting help for package 'rRDP'
finding HTML links ... done
RDP html
accuracy html
annotation html
** building package indices
** installing vignettes
** testing if installed package can be loaded from temporary location
** testing if installed package can be loaded from final location
** testing if installed package keeps a record of temporary installation path
* MD5 sums
packaged installation of 'rRDP' as rRDP_1.24.0.zip
* DONE (rRDP)