| Back to Multiple platform build/check report for BioC 3.12 | 
 | 
This page was generated on 2021-05-06 12:32:58 -0400 (Thu, 06 May 2021).
| To the developers/maintainers of the qpgraph package: Please make sure to use the following settings in order to reproduce any error or warning you see on this page. | 
| Package 1426/1974 | Hostname | OS / Arch | INSTALL | BUILD | CHECK | BUILD BIN | ||||||||
| qpgraph 2.24.3  (landing page) Robert Castelo 
 | malbec1 | Linux (Ubuntu 18.04.5 LTS) / x86_64 | OK | OK | WARNINGS |  | ||||||||
| tokay1 | Windows Server 2012 R2 Standard / x64 | OK | OK | WARNINGS | OK |  | ||||||||
| merida1 | macOS 10.14.6 Mojave / x86_64 | OK | OK | WARNINGS | OK |  | ||||||||
| Package: qpgraph | 
| Version: 2.24.3 | 
| Command: chmod a+r qpgraph -R && C:\Users\biocbuild\bbs-3.12-bioc\R\bin\R.exe CMD build --keep-empty-dirs --no-resave-data qpgraph | 
| StartedAt: 2021-05-05 22:56:53 -0400 (Wed, 05 May 2021) | 
| EndedAt: 2021-05-05 22:58:53 -0400 (Wed, 05 May 2021) | 
| EllapsedTime: 120.1 seconds | 
| RetCode: 0 | 
| Status: OK | 
| PackageFile: qpgraph_2.24.3.tar.gz | 
| PackageFileSize: 2.648 MiB | 
############################################################################## ############################################################################## ### ### Running command: ### ### chmod a+r qpgraph -R && C:\Users\biocbuild\bbs-3.12-bioc\R\bin\R.exe CMD build --keep-empty-dirs --no-resave-data qpgraph ### ############################################################################## ############################################################################## * checking for file 'qpgraph/DESCRIPTION' ... OK * preparing 'qpgraph': * checking DESCRIPTION meta-information ... OK * cleaning src * installing the package to build vignettes * creating vignettes ... OK * cleaning src * checking for LF line-endings in source and make files and shell scripts * checking for empty or unneeded directories * building 'qpgraph_2.24.3.tar.gz' Warning: file 'qpgraph/cleanup' did not have execute permissions: corrected Warning: file 'qpgraph/configure' did not have execute permissions: corrected